BEGIN:VCALENDAR
VERSION:2.0
PRODID:-//ChamberMaster//Event Calendar 2.0//EN
METHOD:PUBLISH
X-PUBLISHED-TTL:P3D
REFRESH-INTERVAL:P3D
CALSCALE:GREGORIAN
BEGIN:VEVENT
DTSTART:20190613T230000Z
DTEND:20190614T040000Z
X-MICROSOFT-CDO-ALLDAYEVENT:FALSE
SUMMARY:Free First-Time Homebuyer Class
DESCRIPTION:Did you know that you can receive up to 5% of your loan amount in down payment assistance? There are many options for eligible first-time homebuyers\, including reduced interest rates! Your first step to home ownership starts with our class. We'll discuss CREDIT\, BUDGETING\, FICO SCORING\, FINANCING and more. The path to home ownership may be easier than you think\, let us help get you there! Taught by Reba Haas of Team Reba\, Re/Max Metro Eastside\, and Eric Aasness of Homestreet Bank. Lunch and refreshments provided. Space is Limited - Please RSVP. Home Buyer Steps is a free Workshop approved by Washington State Housing Finance Commission.
X-ALT-DESC;FMTTYPE=text/html:Did you know that you can receive up to 5% of your loan amount in down payment assistance? There are many options for eligible first-time homebuyers\, including reduced interest rates! Your first step to home ownership starts with our class. We&#39\;ll discuss CREDIT\, BUDGETING\, FICO SCORING\, FINANCING and more. The path to home ownership may be easier than you think\, let us help get you there! Taught by Reba Haas of Team Reba\, Re/Max Metro Eastside\, and Eric Aasness of Homestreet Bank. Lunch and refreshments provided. Space is Limited - Please RSVP. Home Buyer Steps is a free Workshop approved by Washington State Housing Finance Commission.
LOCATION:Claim Jumper Restaurants (Tukwila) 5901 S 180th St\, Tukwila\, Washington 98188
UID:e.16.6524
SEQUENCE:3
DTSTAMP:20260424T021827Z
URL:https://chamber.gorenton.com/events/details/free-first-time-homebuyer-class-06-13-2019-6524
END:VEVENT

END:VCALENDAR
