BEGIN:VCALENDAR
VERSION:2.0
PRODID:-//ChamberMaster//Event Calendar 2.0//EN
METHOD:PUBLISH
X-PUBLISHED-TTL:P3D
REFRESH-INTERVAL:P3D
CALSCALE:GREGORIAN
BEGIN:VEVENT
DTSTART:20191031T010000Z
DTEND:20191031T020000Z
X-MICROSOFT-CDO-ALLDAYEVENT:FALSE
SUMMARY:From Mexican to Mexican-American: A Family Immigration Story
DESCRIPTION:As immigration becomes more hotly debated in the United States\, the arguments have become cartoonish\, with one side often painted as naive and another as xenophobic. What has become lost is the human story of immigration to America\, with all its complexity\, heartache\, and hope. University of Washington's Professor Carlos Gil will explore Mexican immigration by spotlight his own family's experience in southern California\, including parallels with Washington State. This program is courtesy of Humanities Washington.
X-ALT-DESC;FMTTYPE=text/html:As immigration becomes more hotly debated in the United States\, the arguments have become cartoonish\, with one side often painted as naive and another as xenophobic. What has become lost is the human story of immigration to America\, with all its complexity\, heartache\, and hope. University of Washington&#39\;s Professor Carlos Gil will explore Mexican immigration by spotlight his own family&#39\;s experience in southern California\, including parallels with Washington State. This program is courtesy of Humanities Washington.
LOCATION:Renton History Museum 235 Mill Ave S Renton\, WA\, 98057
UID:e.16.6632
SEQUENCE:3
DTSTAMP:20260423T203910Z
URL:https://chamber.gorenton.com/events/details/from-mexican-to-mexican-american-a-family-immigration-story-6632
END:VEVENT

END:VCALENDAR
