BEGIN:VCALENDAR
VERSION:2.0
PRODID:-//ChamberMaster//Event Calendar 2.0//EN
METHOD:PUBLISH
X-PUBLISHED-TTL:P3D
REFRESH-INTERVAL:P3D
CALSCALE:GREGORIAN
BEGIN:VEVENT
DTSTART:20210821T163000Z
DTEND:20210821T213000Z
X-MICROSOFT-CDO-ALLDAYEVENT:FALSE
SUMMARY:Fun in the Sun!
DESCRIPTION:An action packed children's event for kids K-5th grade!\n\n	Lunch Provided\n	Arrive at 9:30am to get your kids signed up for stations - Multiple stations available\, each child chooses 3\, first come first serve for preferred choices\n	Kids should wear bathing suits under shorts and t-shirts for outdoor water games\n	Preregister here\n\nClick here for a printable flyer to share!\n\n\n\nREGISTER HERE!
X-ALT-DESC;FMTTYPE=text/html:<span style="color:rgb(68\, 68\, 68)\; font-family:helvetica\,arial\,sans-serif\; font-size:14px">An action packed children&#39\;s event for kids K-5th grade!</span>\n<ul>\n	<li>Lunch Provided</li>\n	<li>Arrive at 9:30am to get your kids signed up for stations - Multiple stations available\, each child chooses&nbsp\;3\, first come first serve for preferred choices</li>\n	<li>Kids should wear bathing suits under shorts and t-shirts for outdoor water games</li>\n	<li>Preregister here</li>\n</ul>\n<strong><a href="http://www.cfcrenton.com/_img/li_618333.pdf" style="box-sizing: border-box\; background-color: transparent\; color: rgb(68\, 68\, 68)\; text-decoration-line: none\;"><span style="color:rgb(51\, 0\, 153)">Click here for a printable flyer to share!</span></a><br />\n<br />\n<span style="font-size:18px"><a href="http://www.cfcrenton.com/_forms/view/32036"><span style="color:rgb(51\, 0\, 153)"><span style="background-color:#00FFFF">REGISTER HERE!</span></span></a></span></strong><br />\n&nbsp\;
LOCATION:Celebration Foursquare Church 11840 148th Ave SE Renton\, WA 98059
UID:e.16.8250
SEQUENCE:3
DTSTAMP:20260420T144142Z
URL:https://chamber.gorenton.com/events/details/fun-in-the-sun-8250
END:VEVENT

END:VCALENDAR
