BEGIN:VCALENDAR
VERSION:2.0
PRODID:-//ChamberMaster//Event Calendar 2.0//EN
METHOD:PUBLISH
X-PUBLISHED-TTL:P3D
REFRESH-INTERVAL:P3D
CALSCALE:GREGORIAN
BEGIN:VEVENT
DTSTART:20190725T190000Z
DTEND:20190725T200000Z
X-MICROSOFT-CDO-ALLDAYEVENT:FALSE
SUMMARY:Fundraising and Finance: What Development People Need to Know
DESCRIPTION:Fundraisers and financial professionals   oil and water?\n\n\n\nFundraisers and financial management staff work together to bring in and manage the resources that nonprofits need. Staff and board depend on them to raise money\, safeguard those funds\, report accurately to donors\, leadership and the community and comply with all industry regulations.\n\n\n\nHow can we improve collaboration between these two teams and ensure that they work effectively and efficiently together?\n\n\n\nJoin Angela Beard\, Director of the Sanford Institute of Philanthropy at City University of Seattle\, for a session that combines reflection and discussion with practical exercises to help you build or improve good working relationships between you and your finance team.\n\n\n\nYou will leave the workshop with:\n\n\n\n1. An understanding of the different training\, orientation and accountabilities of fundraising and finance professionals\n\n2. Knowledge of financial management rules and terminology as they pertain to fundraising\n\n3. Tips on how the two departments can work together to successfully steward the organization's resources\n\n\n\n---\n\n\n\nThis seminar will be offered both in-person and streamed online. If you register to attend online\, a link to the stream will be sent to your email in advance of the event.\n\n\n\nCan't attend\, either in-person or online? No problem! As long as you register for the event\, the PowerPoint presentation as well as a video recording of the seminar will be emailed to you.\n\n\n\nFor those who come in person\, we will have time for networking from 11:30 to noon. The seminar will begin at 12pm.\n\n\n\nWe hope to see you there!
X-ALT-DESC;FMTTYPE=text/html:Fundraisers and financial professionals &ndash\; oil and water?<br />\n<br />\nFundraisers and financial management staff work together to bring in and manage the resources that nonprofits need. Staff and board depend on them to raise money\, safeguard those funds\, report accurately to donors\, leadership and the community and comply with all industry regulations.<br />\n<br />\nHow can we improve collaboration between these two teams and ensure that they work effectively and efficiently together?<br />\n<br />\nJoin Angela Beard\, Director of the Sanford Institute of Philanthropy at City University of Seattle\, for a session that combines reflection and discussion with practical exercises to help you build or improve good working relationships between you and your finance team.<br />\n<br />\nYou will leave the workshop with:<br />\n<br />\n1. An understanding of the different training\, orientation and accountabilities of fundraising and finance professionals<br />\n2. Knowledge of financial management rules and terminology as they pertain to fundraising<br />\n3. Tips on how the two departments can work together to successfully steward the organization&rsquo\;s resources<br />\n<br />\n---<br />\n<br />\nThis seminar will be offered both in-person and streamed online. If you register to attend online\, a link to the stream will be sent to your email in advance of the event.<br />\n<br />\nCan&#39\;t attend\, either in-person or online? No problem! As long as you register for the event\, the PowerPoint presentation as well as a video recording of the seminar will be emailed to you.<br />\n<br />\nFor those who come in person\, we will have time for networking from 11:30 to noon. The seminar will begin at 12pm.<br />\n<br />\nWe hope to see you there!
LOCATION:City University of Seattle 521 Wall Street Seattle\, WA 98121
UID:e.16.6576
SEQUENCE:3
DTSTAMP:20260424T021923Z
URL:https://chamber.gorenton.com/events/details/fundraising-and-finance-what-development-people-need-to-know-6576
END:VEVENT

END:VCALENDAR
