BEGIN:VCALENDAR
VERSION:2.0
PRODID:-//ChamberMaster//Event Calendar 2.0//EN
METHOD:PUBLISH
X-PUBLISHED-TTL:P3D
REFRESH-INTERVAL:P3D
CALSCALE:GREGORIAN
BEGIN:VEVENT
DTSTART:20181102T003000Z
DTEND:20181102T023000Z
X-MICROSOFT-CDO-ALLDAYEVENT:FALSE
SUMMARY:GeekWire Live at Southport on Lake Washington
DESCRIPTION:GeekWire is hitting the road\, heading to wonderful Renton\, WA   home of the Boeing 737\, Wizards of the Coast\, the Seattle Seahawks high-tech training facility and other geeky fun   during the week of Oct. 28   Nov. 1! We'll be covering every aspect of Renton as it looks to transition from historical industrial base to high-tech hub. As part of this special editorial project\, please join us for the next live recording of the GeekWire podcast at the south end of Lake Washington with special guest Chris Cocks\, President at Wizards of the Coast and former executive at Microsoft. We'll talk with Cocks about the changing gaming landscape\, and how Wizards of the Coast is evolving to capture the imaginations of gaming geeks all over the world.
X-ALT-DESC;FMTTYPE=text/html:GeekWire is hitting the road\, heading to wonderful Renton\, WA &mdash\; home of the Boeing 737\, Wizards of the Coast\, the Seattle Seahawks high-tech training facility and other geeky fun &mdash\; during the week of Oct. 28 &ndash\; Nov. 1! We&rsquo\;ll be covering every aspect of Renton as it looks to transition from historical industrial base to high-tech hub. As part of this special editorial project\, please join us for the next live recording of the GeekWire podcast at the south end of Lake Washington with special guest Chris Cocks\, President at Wizards of the Coast and former executive at Microsoft. We&rsquo\;ll talk with Cocks about the changing gaming landscape\, and how Wizards of the Coast is evolving to capture the imaginations of gaming geeks all over the world.
LOCATION:Hyatt Regency at Southport (1053 Lake Washington Blvd N\, Renton\, WA)
UID:e.16.5943
SEQUENCE:3
DTSTAMP:20260424T140059Z
URL:https://chamber.gorenton.com/events/details/geekwire-live-at-southport-on-lake-washington-5943
END:VEVENT

END:VCALENDAR
