BEGIN:VCALENDAR
VERSION:2.0
PRODID:-//ChamberMaster//Event Calendar 2.0//EN
METHOD:PUBLISH
X-PUBLISHED-TTL:P3D
REFRESH-INTERVAL:P3D
CALSCALE:GREGORIAN
BEGIN:VEVENT
DTSTART:20210315T153000Z
DTEND:20210418T023000Z
X-MICROSOFT-CDO-ALLDAYEVENT:FALSE
SUMMARY:GenCare Lifestyle Renton Food Drive
DESCRIPTION:You can help fight hunger! Please join us by donating non-perishable food items to help benefit those in need. All donations collected will go to the Sustainable Renton Non Profit drive through grocery store.
X-ALT-DESC;FMTTYPE=text/html:You can help fight hunger! Please join us by donating non-perishable food items to help benefit those in need. All donations collected will go to the Sustainable Renton Non Profit drive through grocery store.
LOCATION:The Lodge at Eagle Ridge 1600 S Eagle Ridge Drive Renton\, WA 98055
UID:e.16.8144
SEQUENCE:3
DTSTAMP:20260420T184457Z
URL:https://chamber.gorenton.com/events/details/gencare-lifestyle-renton-food-drive-03-15-2021-8144
END:VEVENT

END:VCALENDAR
