BEGIN:VCALENDAR
VERSION:2.0
PRODID:-//ChamberMaster//Event Calendar 2.0//EN
METHOD:PUBLISH
X-PUBLISHED-TTL:P3D
REFRESH-INTERVAL:P3D
CALSCALE:GREGORIAN
BEGIN:VEVENT
DTSTART;VALUE=DATE:20191102
DTEND;VALUE=DATE:20191103
TRANSP:TRANSPARENT
X-MICROSOFT-CDO-ALLDAYEVENT:TRUE
SUMMARY:Glitter Gala & Fashion Show
DESCRIPTION:Proceeds support Goodwill's free Job Training and Education programs\n\n\n\nOn behalf of Goodwill students\, staff and board of directors\, thank you for generously supporting our 2018 Glitter Gala and Fashion Show. Together\, you helped raise more than $545\,000! These funds are critical to our mission and help strengthen your community through job training and education.\n\n\n\nThe 2019 Glitter Gala proceeds will support Goodwill's resilient women. Last year\, over 7\,750 women walked through our doors looking for an opportunity to improve their lives\, support their families and build a better future. With your support\, Goodwill's free Job Training and Education programs and wraparound support services will guide these incredible women toward their goals.
X-ALT-DESC;FMTTYPE=text/html:Proceeds support Goodwill&#39\;s free Job Training and Education programs<br />\n<br />\nOn behalf of Goodwill students\, staff and board of directors\, thank you for generously supporting our 2018 Glitter Gala and Fashion Show. Together\, you helped raise more than $545\,000! These funds are critical to our mission and help strengthen your community through job training and education.<br />\n<br />\nThe 2019 Glitter Gala proceeds will support Goodwill&rsquo\;s resilient women. Last year\, over 7\,750 women walked through our doors looking for an opportunity to improve their lives\, support their families and build a better future. With your support\, Goodwill&rsquo\;s free Job Training and Education programs and wraparound support services will guide these incredible women toward their goals.
LOCATION:Bell Harbor International Conference Center 2211 Alaskan Way\, Pier 66 Seattle\, WA 98121
UID:e.16.6685
SEQUENCE:3
DTSTAMP:20260423T185906Z
URL:https://chamber.gorenton.com/events/details/glitter-gala-fashion-show-6685
END:VEVENT

END:VCALENDAR
