BEGIN:VCALENDAR
VERSION:2.0
PRODID:-//ChamberMaster//Event Calendar 2.0//EN
METHOD:PUBLISH
X-PUBLISHED-TTL:P3D
REFRESH-INTERVAL:P3D
CALSCALE:GREGORIAN
BEGIN:VEVENT
DTSTART:20191204T013000Z
DTEND:20191204T023000Z
X-MICROSOFT-CDO-ALLDAYEVENT:FALSE
SUMMARY:Grand Opening & Ribbon Cutting Benavidez Sports
DESCRIPTION:Welcome to Renton the newest member of the Renton Chamber of Commerce - the Benavidez family and "Benavidez Sports."\n\nA new training facility featuring boxing\, self defense and fitness.\n\n231 Main Ave S\, Ste B (open to the public next week).\n\nBenavidez Sports is the training center of two-time super middleweight world champion\, David Benavidez and former WBA world champion\, Jose Benavidez\, Jr.\n\nWe are excited about owner and trainer\, Jose Benavidez Sr. jumping right in to be a part of the community.\n\nWorld champion athletes\, providing world class training and becoming a part of our world class community.\n\nJoin us for this grand opening details\, ribbon cutting event\, fashion line shows\, charity events and community activities!\n\nWelcome to Renton Benavidez family!
X-ALT-DESC;FMTTYPE=text/html:<p style="margin: 6px 0px\; font-family: Helvetica\, Arial\, sans-serif\; color: rgb(29\, 33\, 41)\; font-size: 14px\; background-color: rgb(255\, 255\, 255)\;">Welcome to Renton the newest member of the&nbsp\;<a class="profileLink" data-hovercard="/ajax/hovercard/page.php?id=314183669059&amp\;extragetparams=%7B%22__tn__%22%3A%22%2CdK-R-R%22%2C%22eid%22%3A%22ARA2The9IdIrGG0NpbRFNjAUh9I039EiZE7GbVy4DHU0ulG8JNxRLMiyWpTTpIaIHkc51jKsBEA0aXhd%22%2C%22fref%22%3A%22mentions%22%2C%22directed_target_id%22%3A31507151754%7D" data-hovercard-prefer-more-content-show="1" href="https://www.facebook.com/rentonchamber/?__tn__=K-R&amp\;eid=ARA2The9IdIrGG0NpbRFNjAUh9I039EiZE7GbVy4DHU0ulG8JNxRLMiyWpTTpIaIHkc51jKsBEA0aXhd&amp\;fref=mentions&amp\;__xts__%5B0%5D=68.ARCavrj_o8XaJ8huYWSysWzpSZjOWC2BdcO-4U6xObK7kNlhfz8EmDe79ZnEofMiMKArmsiNpuwftOrSPmXhd4_goNC0_5u2MU40_xHURMAcAiU4rLyB2uUkdZS__4XEyXvlWwY6yCVryKIzxEabgBOdbczUw4yFsVAVf0afHO1gs-mNe_4LGbzEBPA" style="color: rgb(56\, 88\, 152)\; cursor: pointer\; text-decoration-line: none\; font-family: inherit\;">Renton Chamber of Commerce</a>&nbsp\;- the Benavidez family and &quot\;Benavidez Sports.&quot\;</p>\n\n<p style="margin: 6px 0px\; font-family: Helvetica\, Arial\, sans-serif\; color: rgb(29\, 33\, 41)\; font-size: 14px\; background-color: rgb(255\, 255\, 255)\;">A new training facility featuring boxing\, self defense and fitness.<br />\n231 Main Ave S\, Ste B (open to the public next week).</p>\n\n<p style="margin: 6px 0px\; font-family: Helvetica\, Arial\, sans-serif\; color: rgb(29\, 33\, 41)\; font-size: 14px\; background-color: rgb(255\, 255\, 255)\;">Benavidez Sports is the training center of two-time super middleweight world champion\, David Benavidez and former WBA world champion\, Jose Benavidez\, Jr.</p>\n\n<p style="margin: 6px 0px\; font-family: Helvetica\, Arial\, sans-serif\; color: rgb(29\, 33\, 41)\; font-size: 14px\; background-color: rgb(255\, 255\, 255)\;">We are excited about owner and trainer\, Jose Benavidez Sr. jumping right in to be a part of the community.<br />\nWorld champion athletes\, providing world class training and becoming a part of our world class community.</p>\n\n<p style="margin: 6px 0px\; font-family: Helvetica\, Arial\, sans-serif\; color: rgb(29\, 33\, 41)\; font-size: 14px\; background-color: rgb(255\, 255\, 255)\;">Join us for this grand opening details\, ribbon cutting event\, fashion line shows\, charity events and community activities!</p>\n\n<p style="margin: 6px 0px 0px\; display: inline\; font-family: Helvetica\, Arial\, sans-serif\; color: rgb(29\, 33\, 41)\; font-size: 14px\; background-color: rgb(255\, 255\, 255)\;">Welcome to Renton Benavidez family!</p>\n
LOCATION:Benavidez Sports 231 Main Ave S\, Suite B Renton\, WA 98057
UID:e.16.6706
SEQUENCE:3
DTSTAMP:20260423T175052Z
URL:https://chamber.gorenton.com/events/details/grand-opening-ribbon-cutting-benavidez-sports-6706
END:VEVENT

END:VCALENDAR
