BEGIN:VCALENDAR
VERSION:2.0
PRODID:-//ChamberMaster//Event Calendar 2.0//EN
METHOD:PUBLISH
X-PUBLISHED-TTL:P3D
REFRESH-INTERVAL:P3D
CALSCALE:GREGORIAN
BEGIN:VEVENT
DTSTART:20200202T070000Z
DTEND:20200202T070000Z
X-MICROSOFT-CDO-ALLDAYEVENT:FALSE
SUMMARY:Grand Opening & Ribbon Cutting- HEVA BJJ
DESCRIPTION:You are cordially invited to celebrate with us on our newest member! \n\nOpen to the public.\n\nHEVA BJJ is having our Open House at their new location in Downtown Renton. \n\n\n	Ribbon Cutting with the Renton Chamber of Commerce\n	Free Kids BJJ/Self Defense Class (shorts/sweats/t-shirt)\n	Open Mat (All ages & levels) to follow kids class\n	Photobooth\n\n\nYou'll enjoy samples and giveaways from local businesses.\n\nRaffle prizes will be drawn throughout the day. Prizes include dinner packages\, skin care products\, specialty coffee roasts\, membership packages and more.\n\nSupporting sponsors:\n\nOLEO - CBD drink mixes designed to help you maintain an active and healthy lifestyle\n\nSoundDown Seattle - Seattle's Silent Disco Company\n\nBoLavish Lash & Skincare Spa\n\nBoon Boona Coffee\n\nO-ChaThai Restaurant\n\nHappenstance Coffee\n\nBlossom Vegetarian
X-ALT-DESC;FMTTYPE=text/html:<div background-color:="" font-size:="" style="color: rgb(28\, 42\, 54)\; font-family: " trebuchet="" white-space:=""><span style="font-size:14px\;"><span style="font-family:arial\;"><span style="background:white\;"><span style="color:#1C2A36\;">You are cordially invited to celebrate with us on our newest member!&nbsp\;<br />\nOpen to the public.<br />\nHEVA BJJ is having our Open House at their new location in Downtown Renton.&nbsp\;</span></span></span></span></div>\n\n<ul>\n	<li background-color:="" font-size:="" style="color: rgb(28\, 42\, 54)\;" trebuchet="" white-space:="">Ribbon Cutting with the Renton Chamber of Commerce</li>\n	<li background-color:="" font-size:="" style="color: rgb(28\, 42\, 54)\;" trebuchet="" white-space:="">Free Kids BJJ/Self Defense Class (shorts/sweats/t-shirt)</li>\n	<li background-color:="" font-size:="" style="color: rgb(28\, 42\, 54)\;" trebuchet="" white-space:=""><span style="font-size:14px\;"><span style="font-family:arial\;"><span style="background:white\;"><span style="color:#1C2A36\;">Open Mat (All ages &amp\; levels) to follow kids class</span></span></span></span></li>\n	<li background-color:="" font-size:="" style="color: rgb(28\, 42\, 54)\;" trebuchet="" white-space:=""><span style="font-size:14px\;"><span style="font-family:arial\;"><span style="background:white\;"><span style="color:#1C2A36\;">Photobooth</span></span></span></span></li>\n</ul>\n\n<div background-color:="" font-size:="" style="color: rgb(28\, 42\, 54)\; font-family: " trebuchet="" white-space:=""><span style="font-size:14px\;"><span style="font-family:arial\;"><span style="background:white\;"><span style="color:#1C2A36\;">You&#39\;ll enjoy samples and giveaways from local businesses.<br />\nRaffle prizes will be drawn throughout the day. Prizes include dinner packages\, skin care products\, specialty coffee roasts\, membership packages and more.<br />\nSupporting sponsors:</span></span><br />\n<a href="https://www.facebook.com/oleolife/" style="cursor:pointer\;white-space:pre-wrap\;" target="_blank"><span style="background:white\;"><span style="color:#385898\;">OLEO</span></span></a><span style="background:white\;"><span style="color:#1D2129\;"><span style="white-space:pre-wrap\;"> - CBD drink mixes designed to help you maintain an active and healthy lifestyle</span></span></span><br style="white-space:pre-wrap\;" />\n<a href="https://www.facebook.com/PugetSoundDown/" style="cursor:pointer\;text-decoration-line:none\;white-space:pre-wrap\;" target="_blank"><span style="background:white\;"><span style="color:#385898\;">SoundDown Seattle - Seattle&#39\;s Silent Disco Company</span></span></a><br style="white-space:pre-wrap\;" />\n<a href="https://www.facebook.com/thebolavishspa/" style="cursor:pointer\;text-decoration-line:none\;white-space:pre-wrap\;" target="_blank"><span style="background:white\;"><span style="color:#385898\;">BoLavish Lash &amp\; Skincare Spa</span></span></a><br style="white-space:pre-wrap\;" />\n<a href="https://www.facebook.com/BoonBoonaCoffee/" style="cursor:pointer\;text-decoration-line:none\;white-space:pre-wrap\;" target="_blank"><span style="background:white\;"><span style="color:#385898\;">Boon Boona Coffee</span></span></a><br style="white-space:pre-wrap\;" />\n<a href="https://www.facebook.com/OchaThaiRenton/" style="cursor:pointer\;text-decoration-line:none\;white-space:pre-wrap\;" target="_blank"><span style="background:white\;"><span style="color:#385898\;">O-ChaThai</span></span></a><span style="background:white\;"><span style="color:#1D2129\;"><span style="white-space:pre-wrap\;"> Restaurant</span></span></span><br style="white-space:pre-wrap\;" />\n<a href="https://www.facebook.com/happenstancecoffeedotcom/" style="cursor:pointer\;text-decoration-line:none\;white-space:pre-wrap\;" target="_blank"><span style="background:white\;"><span style="color:#385898\;">Happenstance Coffee</span></span></a><br style="white-space:pre-wrap\;" />\n<a href="https://www.facebook.com/BlossomVegetarian1/" style="cursor:pointer\;text-decoration-line:none\;white-space:pre-wrap\;" target="_blank"><span style="background:white\;"><span style="color:#385898\;">Blossom Vegetarian</span></span></a></span></span></div>\n
LOCATION:339 Burnett Ave S\, Suite A Renton\, WA 98057
UID:e.16.6734
SEQUENCE:3
DTSTAMP:20260423T145150Z
URL:https://chamber.gorenton.com/events/details/grand-opening-ribbon-cutting-heva-bjj-6734
END:VEVENT

END:VCALENDAR
