BEGIN:VCALENDAR
VERSION:2.0
PRODID:-//ChamberMaster//Event Calendar 2.0//EN
METHOD:PUBLISH
X-PUBLISHED-TTL:P3D
REFRESH-INTERVAL:P3D
CALSCALE:GREGORIAN
BEGIN:VEVENT
DTSTART:20190511T150000Z
DTEND:20190512T010000Z
X-MICROSOFT-CDO-ALLDAYEVENT:FALSE
SUMMARY:Grand Opening & Ribbon Cutting- Sherwin Williams
DESCRIPTION:As you contemplate that next project around the house with all of this great weather  .  check out this OUTSTANDING "Grand Opening Paint Sale" at SHERWIN WILLIAMS in the Renton Highlands (4500 NE Sunset Blvd) on May 11th 8a - 6p).\n\n\n\n Join us at 12:00 noon for a Grand Opening Ribbon Cutting Ceremony for this new Chamber Member and help us   WELCOME   them to the Renton community!
X-ALT-DESC;FMTTYPE=text/html:As you contemplate that next project around the house with all of this great weather &hellip\;.&nbsp\; check out this OUTSTANDING &quot\;Grand Opening Paint Sale&quot\; at SHERWIN WILLIAMS in the Renton Highlands (4500 NE Sunset Blvd) on May 11th 8a - 6p).<br />\n<br />\n&nbsp\;Join us at 12:00 noon for a Grand Opening Ribbon Cutting Ceremony for this new Chamber Member and help us &hearts\; WELCOME &hearts\; them to the Renton community!
LOCATION:4500 NE Sunset Blvd Renton WA\, 98059
UID:e.16.6489
SEQUENCE:3
DTSTAMP:20260424T035200Z
URL:https://chamber.gorenton.com/events/details/grand-opening-ribbon-cutting-sherwin-williams-6489
END:VEVENT

END:VCALENDAR
