BEGIN:VCALENDAR
VERSION:2.0
PRODID:-//ChamberMaster//Event Calendar 2.0//EN
METHOD:PUBLISH
X-PUBLISHED-TTL:P3D
REFRESH-INTERVAL:P3D
CALSCALE:GREGORIAN
BEGIN:VEVENT
DTSTART:20180123T000000Z
DTEND:20180123T020000Z
X-MICROSOFT-CDO-ALLDAYEVENT:FALSE
SUMMARY:Groundbreaking of new Valley Medical Office Building
DESCRIPTION:Join Us!\n\n \n\nWe will be breaking ground on our new Medical Office Building on Monday\, January 22 from 4-6pm.\n\nJoin us as we celebrate a new era in patient experience for patients in South King County. This building will house a new comprehensive Cancer Center and innovative orthopedic surgical program.\n\n \n\nCome learn more about the project\, network with colleagues and community members and help us turn some dirt!
X-ALT-DESC;FMTTYPE=text/html:<div style="background-color: transparent\; color: rgb(33\, 33\, 33)\; font-family: &amp\;quot\;wf_segoe-ui_normal&amp\;quot\;\,&amp\;quot\;Segoe UI&amp\;quot\;\,&amp\;quot\;Segoe WP&amp\;quot\;\,Tahoma\,Arial\,sans-serif\,serif\,&amp\;quot\;EmojiFont&amp\;quot\;\; font-size: 15px\; font-style: normal\; font-variant: normal\; font-weight: 400\; letter-spacing: normal\; margin-bottom: 0px\; margin-left: 0px\; margin-right: 0px\; margin-top: 0px\; orphans: 2\; text-align: left\; text-decoration: none\; text-indent: 0px\; text-transform: none\; -webkit-text-stroke-width: 0px\; white-space: normal\; word-spacing: 0px\;"><font face="Calibri\,sans-serif" size="2" style="color: rgb(33\, 33\, 33)\; font-family: Calibri\,sans-serif\; font-size: 13.33px\;"><span style="font-size: 14.66px\;"><font size="5"><span style="font-size: 26.66px\;"><b>Join Us!</b></span></font></span></font></div>\n\n<div style="background-color: transparent\; color: rgb(33\, 33\, 33)\; font-family: &amp\;quot\;wf_segoe-ui_normal&amp\;quot\;\,&amp\;quot\;Segoe UI&amp\;quot\;\,&amp\;quot\;Segoe WP&amp\;quot\;\,Tahoma\,Arial\,sans-serif\,serif\,&amp\;quot\;EmojiFont&amp\;quot\;\; font-size: 15px\; font-style: normal\; font-variant: normal\; font-weight: 400\; letter-spacing: normal\; margin-bottom: 0px\; margin-left: 0px\; margin-right: 0px\; margin-top: 0px\; orphans: 2\; text-align: left\; text-decoration: none\; text-indent: 0px\; text-transform: none\; -webkit-text-stroke-width: 0px\; white-space: normal\; word-spacing: 0px\;"><font face="Calibri\,sans-serif" size="2" style="color: rgb(33\, 33\, 33)\; font-family: Calibri\,sans-serif\; font-size: 13.33px\;"><span style="font-size: 14.66px\;"><font size="5"><span style="font-size: 26.66px\;"><b>&nbsp\;</b></span></font></span></font></div>\n\n<div style="background-color: transparent\; color: rgb(33\, 33\, 33)\; font-family: &amp\;quot\;wf_segoe-ui_normal&amp\;quot\;\,&amp\;quot\;Segoe UI&amp\;quot\;\,&amp\;quot\;Segoe WP&amp\;quot\;\,Tahoma\,Arial\,sans-serif\,serif\,&amp\;quot\;EmojiFont&amp\;quot\;\; font-size: 15px\; font-style: normal\; font-variant: normal\; font-weight: 400\; letter-spacing: normal\; margin-bottom: 0px\; margin-left: 0px\; margin-right: 0px\; margin-top: 0px\; orphans: 2\; text-align: left\; text-decoration: none\; text-indent: 0px\; text-transform: none\; -webkit-text-stroke-width: 0px\; white-space: normal\; word-spacing: 0px\;"><font face="Calibri\,sans-serif" size="2" style="color: rgb(33\, 33\, 33)\; font-family: Calibri\,sans-serif\; font-size: 13.33px\;"><span style="font-size: 14.66px\;"><font size="4"><span style="font-size: 18.66px\;">We will be breaking ground on our new Medical Office Building on Monday\, January 22 from 4-6pm.</span></font></span></font></div>\n\n<div style="background-color: transparent\; color: rgb(33\, 33\, 33)\; font-family: &amp\;quot\;wf_segoe-ui_normal&amp\;quot\;\,&amp\;quot\;Segoe UI&amp\;quot\;\,&amp\;quot\;Segoe WP&amp\;quot\;\,Tahoma\,Arial\,sans-serif\,serif\,&amp\;quot\;EmojiFont&amp\;quot\;\; font-size: 15px\; font-style: normal\; font-variant: normal\; font-weight: 400\; letter-spacing: normal\; margin-bottom: 0px\; margin-left: 0px\; margin-right: 0px\; margin-top: 0px\; orphans: 2\; text-align: left\; text-decoration: none\; text-indent: 0px\; text-transform: none\; -webkit-text-stroke-width: 0px\; white-space: normal\; word-spacing: 0px\;"><font face="Calibri\,sans-serif" size="2" style="color: rgb(33\, 33\, 33)\; font-family: Calibri\,sans-serif\; font-size: 13.33px\;"><span style="font-size: 14.66px\;"><font size="4"><span style="font-size: 18.66px\;">Join us as we celebrate a new era in patient experience for patients in South King County. This building will house a new comprehensive Cancer Center and innovative orthopedic surgical program.</span></font></span></font></div>\n\n<div style="background-color: transparent\; color: rgb(33\, 33\, 33)\; font-family: &amp\;quot\;wf_segoe-ui_normal&amp\;quot\;\,&amp\;quot\;Segoe UI&amp\;quot\;\,&amp\;quot\;Segoe WP&amp\;quot\;\,Tahoma\,Arial\,sans-serif\,serif\,&amp\;quot\;EmojiFont&amp\;quot\;\; font-size: 15px\; font-style: normal\; font-variant: normal\; font-weight: 400\; letter-spacing: normal\; margin-bottom: 0px\; margin-left: 0px\; margin-right: 0px\; margin-top: 0px\; orphans: 2\; text-align: left\; text-decoration: none\; text-indent: 0px\; text-transform: none\; -webkit-text-stroke-width: 0px\; white-space: normal\; word-spacing: 0px\;"><font face="Calibri\,sans-serif" size="2" style="color: rgb(33\, 33\, 33)\; font-family: Calibri\,sans-serif\; font-size: 13.33px\;"><span style="font-size: 14.66px\;"><font size="4"><span style="font-size: 18.66px\;">&nbsp\;</span></font></span></font></div>\n\n<div style="background-color: transparent\; color: rgb(33\, 33\, 33)\; font-family: &amp\;quot\;wf_segoe-ui_normal&amp\;quot\;\,&amp\;quot\;Segoe UI&amp\;quot\;\,&amp\;quot\;Segoe WP&amp\;quot\;\,Tahoma\,Arial\,sans-serif\,serif\,&amp\;quot\;EmojiFont&amp\;quot\;\; font-size: 15px\; font-style: normal\; font-variant: normal\; font-weight: 400\; letter-spacing: normal\; margin-bottom: 0px\; margin-left: 0px\; margin-right: 0px\; margin-top: 0px\; orphans: 2\; text-align: left\; text-decoration: none\; text-indent: 0px\; text-transform: none\; -webkit-text-stroke-width: 0px\; white-space: normal\; word-spacing: 0px\;"><font face="Calibri\,sans-serif" size="2" style="color: rgb(33\, 33\, 33)\; font-family: Calibri\,sans-serif\; font-size: 13.33px\;"><span style="font-size: 14.66px\;"><font size="4"><span style="font-size: 18.66px\;">Come learn more about the project\, network with colleagues and community members and help us turn some dirt!</span></font></span></font></div>\n
LOCATION:Valley Medical Center\, Main Campus (Adjacent to Talbot Professional Center in Tented Area) 4011 Talbot Rd South\, Renton
UID:e.16.5516
SEQUENCE:3
DTSTAMP:20260425T040305Z
URL:https://chamber.gorenton.com/events/details/groundbreaking-of-new-valley-medical-office-building-5516
END:VEVENT

END:VCALENDAR
