BEGIN:VCALENDAR
VERSION:2.0
PRODID:-//ChamberMaster//Event Calendar 2.0//EN
METHOD:PUBLISH
X-PUBLISHED-TTL:P3D
REFRESH-INTERVAL:P3D
CALSCALE:GREGORIAN
BEGIN:VEVENT
DTSTART:20221031T220000Z
DTEND:20221101T000000Z
X-MICROSOFT-CDO-ALLDAYEVENT:FALSE
SUMMARY:Halloween Trunk or Treat GenCare Lifestyle Renton
DESCRIPTION:We invite you to our free Trunk or Treat Event at the round-a-bout of The Lodge at Eagle Ridge! Scare up some Halloween fun and smiles with the residents of our retirement community!  Treat bags and refreshments!  RSVP Today! (425)793-8080
X-ALT-DESC;FMTTYPE=text/html:We invite you to our free Trunk or Treat Event at the round-a-bout of The Lodge at Eagle Ridge! Scare up some Halloween fun and smiles with the residents of our retirement community!&nbsp\; Treat bags and refreshments!&nbsp\; RSVP Today! (425)793-8080
LOCATION:
UID:e.16.13618
SEQUENCE:3
DTSTAMP:20260419T174959Z
URL:https://chamber.gorenton.com/events/details/halloween-trunk-or-treat-gencare-lifestyle-renton-13618
END:VEVENT

END:VCALENDAR
