BEGIN:VCALENDAR
VERSION:2.0
PRODID:-//ChamberMaster//Event Calendar 2.0//EN
METHOD:PUBLISH
X-PUBLISHED-TTL:P3D
REFRESH-INTERVAL:P3D
CALSCALE:GREGORIAN
BEGIN:VEVENT
DTSTART:20221118T220000Z
DTEND:20221119T000000Z
X-MICROSOFT-CDO-ALLDAYEVENT:FALSE
SUMMARY:Happy Hour at The Lodge at Eagle Ridge
DESCRIPTION:GenCare Lifestyle The Lodge at Eagle Ridge invites you to stop by our beautiful community\, meet our residents and team and enjoy Happy Hour on Friday November 18th  3-4pm.  We can't wait to welcome you!
X-ALT-DESC;FMTTYPE=text/html:GenCare Lifestyle The Lodge at Eagle Ridge invites you to stop by our beautiful community\, meet our residents and team and enjoy Happy Hour on Friday November 18th&nbsp\; 3-4pm.&nbsp\; We can&#39\;t wait to welcome you!&nbsp\;&nbsp\;
LOCATION:
UID:e.16.13644
SEQUENCE:3
DTSTAMP:20260419T162725Z
URL:https://chamber.gorenton.com/events/details/happy-hour-at-the-lodge-at-eagle-ridge-13644
END:VEVENT

END:VCALENDAR
