BEGIN:VCALENDAR
VERSION:2.0
PRODID:-//ChamberMaster//Event Calendar 2.0//EN
METHOD:PUBLISH
X-PUBLISHED-TTL:P3D
REFRESH-INTERVAL:P3D
CALSCALE:GREGORIAN
BEGIN:VEVENT
DTSTART;VALUE=DATE:20220414
DTEND;VALUE=DATE:20220415
TRANSP:TRANSPARENT
X-MICROSOFT-CDO-ALLDAYEVENT:TRUE
SUMMARY:Have you ever wondered about retirement living and what the GenCare Lifestyle is all about?
DESCRIPTION:As you evaluate senior living options get firsthand insight from the people who've been there before and who know us best! Our resident panel will help answer questions and share what they considered when weighing options for senior living! Experience the GenCare Lifestyle though their eyes!
X-ALT-DESC;FMTTYPE=text/html:As you evaluate senior living options get firsthand insight from the people who&#39\;ve been there before and who know us best! Our resident panel will help answer questions and share what they considered when weighing options for senior living! Experience the GenCare Lifestyle though their eyes!
LOCATION:RSVP for online event: https://bit.ly/3gencareresident
UID:e.16.11469
SEQUENCE:3
DTSTAMP:20260420T014825Z
URL:https://chamber.gorenton.com/events/details/have-you-ever-wondered-about-retirement-living-and-what-the-gencare-lifestyle-is-all-about-11469
END:VEVENT

END:VCALENDAR
