BEGIN:VCALENDAR
VERSION:2.0
PRODID:-//ChamberMaster//Event Calendar 2.0//EN
METHOD:PUBLISH
X-PUBLISHED-TTL:P3D
REFRESH-INTERVAL:P3D
CALSCALE:GREGORIAN
BEGIN:VEVENT
DTSTART:20190607T200000Z
DTEND:20190607T230000Z
X-MICROSOFT-CDO-ALLDAYEVENT:FALSE
SUMMARY:Healthy Aging Event for Renton Residents with Kaiser Permanente
DESCRIPTION:- Confidential review and consultation of your current prescriptions\n\n\n\n-Benefits checkup\n\n    Find community resources available to you with this online tool\n\n\n\n-Refreshments Courtesy of Kaiser Permanente
X-ALT-DESC;FMTTYPE=text/html:- Confidential review and consultation of your current prescriptions<br />\n<br />\n-Benefits checkup<br />\n&nbsp\; &nbsp\; Find community resources available to you with this online tool<br />\n<br />\n-Refreshments Courtesy of Kaiser Permanente<br />\n&nbsp\;
LOCATION:SHAG Cedar River Court Senior Living Community 130 Main Ave. South Renton\, WA 98057
UID:e.16.6548
SEQUENCE:3
DTSTAMP:20260424T035440Z
URL:https://chamber.gorenton.com/events/details/healthy-aging-event-for-renton-residents-with-kaiser-permanente-6548
END:VEVENT

END:VCALENDAR
