BEGIN:VCALENDAR
VERSION:2.0
PRODID:-//ChamberMaster//Event Calendar 2.0//EN
METHOD:PUBLISH
X-PUBLISHED-TTL:P3D
REFRESH-INTERVAL:P3D
CALSCALE:GREGORIAN
BEGIN:VEVENT
DTSTART:20220818T200000Z
DTEND:20220818T220000Z
X-MICROSOFT-CDO-ALLDAYEVENT:FALSE
SUMMARY:Healthy Living starts at GenCare Lifestyle Renton
DESCRIPTION:Join us at GenCare Lifestyle Renton Retirement Community to learn some simple exercises and easy changes in your lifestyle to look and feel great! Meet with our personal trainer Abbey Manzano\, Renew Physical Therapy\, Iora One Medical\, Center Well Home Health\, Essential Therapy & Consultation. While you're here we'll show you around and highlight our activities and fitness programs offered to residents.
X-ALT-DESC;FMTTYPE=text/html:Join us at GenCare Lifestyle Renton Retirement Community to learn some simple exercises and easy changes in your lifestyle to look and feel great! Meet with our personal trainer Abbey Manzano\, Renew Physical Therapy\, Iora One Medical\, Center Well Home Health\, Essential Therapy &amp\; Consultation. While you&#39\;re here we&#39\;ll show you around and highlight our activities and fitness programs offered to residents.
LOCATION:GenCare Lifestyle Renton 1600 Eagle Ridge Drive S Renton WA 98055
UID:e.16.13500
SEQUENCE:3
DTSTAMP:20260419T203127Z
URL:https://chamber.gorenton.com/events/details/healthy-living-starts-at-gencare-lifestyle-renton-13500
END:VEVENT

END:VCALENDAR
