BEGIN:VCALENDAR
VERSION:2.0
PRODID:-//ChamberMaster//Event Calendar 2.0//EN
METHOD:PUBLISH
X-PUBLISHED-TTL:P3D
REFRESH-INTERVAL:P3D
CALSCALE:GREGORIAN
BEGIN:VEVENT
DTSTART:20180303T190000Z
DTEND:20180303T200000Z
X-MICROSOFT-CDO-ALLDAYEVENT:FALSE
SUMMARY:Hear My Voice by Living Voices
DESCRIPTION:Join us in celebrating Women's History Month. How long was the fight for women's suffrage? Join the 72-year battle that won half of America's citizens the right to vote. Follow the story of a young woman and her personal struggle between the expectations of her family and her dreams. Recommended for ages 10 and up.
X-ALT-DESC;FMTTYPE=text/html:Join us in celebrating Women&#39\;s History Month. How long was the fight for women&rsquo\;s suffrage? Join the 72-year battle that won half of America&rsquo\;s citizens the right to vote. Follow the story of a young woman and her personal struggle between the expectations of her family and her dreams. Recommended for ages 10 and up.
LOCATION:RENTON HISTORY MUSEUM 235 Mill Ave. S. Renton\, WA 98057
UID:e.16.5724
SEQUENCE:3
DTSTAMP:20260425T005551Z
URL:https://chamber.gorenton.com/events/details/hear-my-voice-by-living-voices-5724
END:VEVENT

END:VCALENDAR
