BEGIN:VCALENDAR
VERSION:2.0
PRODID:-//ChamberMaster//Event Calendar 2.0//EN
METHOD:PUBLISH
X-PUBLISHED-TTL:P3D
REFRESH-INTERVAL:P3D
CALSCALE:GREGORIAN
BEGIN:VEVENT
DTSTART:20240918T203000Z
DTEND:20240918T220000Z
X-MICROSOFT-CDO-ALLDAYEVENT:FALSE
SUMMARY:Highly Sensitive Person Support Group
DESCRIPTION:This is a support group for people who are Highly Sensitive\, based upon the research and book by Elaine Aron\, PhD "The Highly Sensitive Person". HSPs have a more sensitive nervous system than the typical person and can be overwhelmed by visual\, sensory\, olfactory\, others emotions\, and anything that is sensory. This group will be facilitated by psychologist Dr. Launi Treece who wrote "Sensitivity: From a Burden to a Blessing" and Donna Aikens-Anderson\, CPC. We will have education\, interactive\, and workshop exercises for participants. The cost is $180 for six sessions. We will meet every other week starting on Sept. 25th. The first meeting on Sept. 18th is a free "meet and greet" option.
X-ALT-DESC;FMTTYPE=text/html:This is a support group for people who are Highly Sensitive\, based upon the research and book by Elaine Aron\, PhD &quot\;The Highly Sensitive Person&quot\;. HSPs have a more sensitive nervous system than the typical person and can be overwhelmed by visual\, sensory\, olfactory\, others emotions\, and anything that is sensory. This group will be facilitated by psychologist Dr. Launi Treece who wrote &quot\;Sensitivity: From a Burden to a Blessing&quot\; and Donna Aikens-Anderson\, CPC. We will have education\, interactive\, and workshop exercises for participants. The cost is $180 for six sessions. We will meet every other week starting on Sept. 25th. The first meeting on Sept. 18th is a free &quot\;meet and greet&quot\; option.
LOCATION:Held inside the Renton Chamber of Commerce. This is a light and cozy location which will be private. There is plenty of free parking behind the building.
UID:e.16.23404
SEQUENCE:3
DTSTAMP:20260421T204826Z
URL:https://chamber.gorenton.com/events/details/highly-sensitive-person-support-group-23404
END:VEVENT

END:VCALENDAR
