BEGIN:VCALENDAR
VERSION:2.0
PRODID:-//ChamberMaster//Event Calendar 2.0//EN
METHOD:PUBLISH
X-PUBLISHED-TTL:P3D
REFRESH-INTERVAL:P3D
CALSCALE:GREGORIAN
BEGIN:VEVENT
DTSTART:20180516T013000Z
DTEND:20180516T023000Z
X-MICROSOFT-CDO-ALLDAYEVENT:FALSE
SUMMARY:Historic Preservation Comes to Renton
DESCRIPTION:In 2017 the City of Renton entered into an agreement with the King County Historic Preservation Program to provide landmark designation and protection services. Join Jennifer Meisner\, King County Historic Preservation Officer\, in a conversation about what this means for Renton. Learn how this partnership has already benefited Renton and could be a catalyst for future preservation and redevelopment activity.
X-ALT-DESC;FMTTYPE=text/html:In 2017 the City of Renton entered into an agreement with the King County Historic Preservation Program to provide landmark designation and protection services. Join Jennifer Meisner\, King County Historic Preservation Officer\, in a conversation about what this means for Renton. Learn how this partnership has already benefited Renton and could be a catalyst for future preservation and redevelopment activity.
LOCATION:RENTON HISTORY MUSEUM 235 Mill Ave. S. Renton\, WA 98057
UID:e.16.5839
SEQUENCE:3
DTSTAMP:20260424T214303Z
URL:https://chamber.gorenton.com/events/details/historic-preservation-comes-to-renton-5839
END:VEVENT

END:VCALENDAR
