BEGIN:VCALENDAR
VERSION:2.0
PRODID:-//ChamberMaster//Event Calendar 2.0//EN
METHOD:PUBLISH
X-PUBLISHED-TTL:P3D
REFRESH-INTERVAL:P3D
CALSCALE:GREGORIAN
BEGIN:VEVENT
DTSTART:20180927T003000Z
DTEND:20180927T030000Z
X-MICROSOFT-CDO-ALLDAYEVENT:FALSE
SUMMARY:History Making Party- Annual Renton Historical Society Dinner Auction
DESCRIPTION:Wednesday\, September 26\, Doors open at 5:30 pm Join the Renton Historical Society at the Senior Activity Center for our auction fundraiser! The event will feature upcycled antique furniture and art from local artists\, along with auction baskets. Event includes dinner\, raffle\, auctions\, and dessert dash! Tickets available by calling the museum (425.255.2300) or at http://historymakingparty2018.brownpapertickets.com
X-ALT-DESC;FMTTYPE=text/html:Wednesday\, September 26\, Doors open at 5:30 pm Join the Renton Historical Society at the Senior Activity Center for our auction fundraiser! The event will feature upcycled antique furniture and art from local artists\, along with auction baskets. Event includes dinner\, raffle\, auctions\, and dessert dash! Tickets available by calling the museum (425.255.2300) or at http://historymakingparty2018.brownpapertickets.com
LOCATION:211 Burnett Ave N Renton\, WA 98057
UID:e.16.5909
SEQUENCE:3
DTSTAMP:20260424T154209Z
URL:https://chamber.gorenton.com/events/details/history-making-party-annual-renton-historical-society-dinner-auction-09-26-2018-5909
END:VEVENT

END:VCALENDAR
