BEGIN:VCALENDAR
VERSION:2.0
PRODID:-//ChamberMaster//Event Calendar 2.0//EN
METHOD:PUBLISH
X-PUBLISHED-TTL:P3D
REFRESH-INTERVAL:P3D
CALSCALE:GREGORIAN
BEGIN:VEVENT
DTSTART:20171018T013000Z
DTEND:20171018T040000Z
X-MICROSOFT-CDO-ALLDAYEVENT:FALSE
SUMMARY:History Making Party- Annual Renton Historical Society Dinner Auction
DESCRIPTION:Join the Renton Historical Society at the Senior Activity Center for our auction fundraiser! The event will feature upcycled antique furniture and art from local artists\, along with auction baskets. Event includes dinner\, raffle\, auctions\, and dessert dash! Call the museum for ticket information or purchase your tickets at brown paper tickets. http://www.brownpapertickets.com/event/3057197
X-ALT-DESC;FMTTYPE=text/html:Join the Renton Historical Society at the Senior Activity Center for our auction fundraiser! The event will feature upcycled antique furniture and art from local artists\, along with auction baskets. Event includes dinner\, raffle\, auctions\, and dessert dash! Call the museum for ticket information or purchase your tickets at brown paper tickets. http://www.brownpapertickets.com/event/3057197
LOCATION:Renton Senior Activity Center 211 Burnett Ave N\, Renton\, WA 98057
UID:e.16.5052
SEQUENCE:3
DTSTAMP:20260425T101920Z
URL:https://chamber.gorenton.com/events/details/history-making-party-annual-renton-historical-society-dinner-auction-5052
END:VEVENT

END:VCALENDAR
