BEGIN:VCALENDAR
VERSION:2.0
PRODID:-//ChamberMaster//Event Calendar 2.0//EN
METHOD:PUBLISH
X-PUBLISHED-TTL:P3D
REFRESH-INTERVAL:P3D
CALSCALE:GREGORIAN
BEGIN:VEVENT
DTSTART:20220409T170000Z
DTEND:20220409T213000Z
X-MICROSOFT-CDO-ALLDAYEVENT:FALSE
SUMMARY:Homebuyer Master Class
DESCRIPTION:It's 2022. Ready to make your move? \n\n\n\nSecure your seat at the official Homebuyer Master Class\, sponsored by the Washington State Housing Finance Commision\, Saturday April 9th\, 2022 from 10A-2:30P.\n\n\n\nJoin in online or on location: \n\nHomebridge Financial \n\n16040 Christensen Rd\, Suite 315 \n\nTukwila\, WA 98188 \n\n\n\nInstructors: Reba Haas\, CEO of Team Reba RE/MAX Metro Eastside and Eric Aasness\, Lender with Homebridge Financial Home Mortgage chart your course to homeownership with their 50+ years in real estate and finance. \n\n\n\nFind the right home\, make the winning offer\, and receive a certificate qualifying you for special lending programs (including zero-down)!   Email info@teamreba.com to register for this life-changing online event\, or register directly: \n\n\n\n#teamreba  #rebahaas  #homebridge #realestate  #dreamhome  #homebuying #makeyourmove  #adulting
X-ALT-DESC;FMTTYPE=text/html:<span style="color:rgb(13\, 13\, 13)\; font-family:roboto\,noto\,sans-serif\; font-size:15px">&nbsp\;It&rsquo\;s 2022. Ready to make your move?&nbsp\;</span><br />\n<br />\n<span style="color:rgb(13\, 13\, 13)\; font-family:roboto\,noto\,sans-serif\; font-size:15px">Secure your seat at the official Homebuyer Master Class\, sponsored by the Washington State Housing Finance Commision\, Saturday April 9th\, 2022 from 10A-2:30P.<br />\n<br />\nJoin in online or on location: </span><br />\n<span style="color:rgb(13\, 13\, 13)\; font-family:roboto\,noto\,sans-serif\; font-size:15px">Homebridge Financial</span><span style="color:rgb(13\, 13\, 13)\; font-family:roboto\,noto\,sans-serif\; font-size:15px"> </span><br />\n<span style="color:rgb(13\, 13\, 13)\; font-family:roboto\,noto\,sans-serif\; font-size:15px">16040 Christensen Rd\, Suite 315</span><span style="color:rgb(13\, 13\, 13)\; font-family:roboto\,noto\,sans-serif\; font-size:15px"> </span><br />\n<span style="color:rgb(13\, 13\, 13)\; font-family:roboto\,noto\,sans-serif\; font-size:15px">Tukwila\, WA 98188 </span><br />\n<br />\n<span style="color:rgb(13\, 13\, 13)\; font-family:roboto\,noto\,sans-serif\; font-size:15px">Instructors:</span><span style="color:rgb(13\, 13\, 13)\; font-family:roboto\,noto\,sans-serif\; font-size:15px"> </span><span style="color:rgb(13\, 13\, 13)\; font-family:roboto\,noto\,sans-serif\; font-size:15px">Reba Haas\, CEO of Team Reba RE/MAX Metro Eastside and</span><span style="color:rgb(13\, 13\, 13)\; font-family:roboto\,noto\,sans-serif\; font-size:15px"> </span><span style="color:rgb(13\, 13\, 13)\; font-family:roboto\,noto\,sans-serif\; font-size:15px">Eric Aasness\, Lender with Homebridge Financial Home Mortgage</span><span style="color:rgb(13\, 13\, 13)\; font-family:roboto\,noto\,sans-serif\; font-size:15px"> </span><span style="color:rgb(13\, 13\, 13)\; font-family:roboto\,noto\,sans-serif\; font-size:15px">chart your course to homeownership with their 50+ years in real estate and finance.</span><span style="color:rgb(13\, 13\, 13)\; font-family:roboto\,noto\,sans-serif\; font-size:15px"> </span><br />\n<br />\n<span style="color:rgb(13\, 13\, 13)\; font-family:roboto\,noto\,sans-serif\; font-size:15px">Find the right home\, make the winning offer\, and receive a certificate qualifying you for special lending programs (including zero-down)! </span><span style="color:rgb(13\, 13\, 13)\; font-family:roboto\,noto\,sans-serif\; font-size:15px"> </span><span style="color:rgb(13\, 13\, 13)\; font-family:roboto\,noto\,sans-serif\; font-size:15px"> </span><span style="color:rgb(13\, 13\, 13)\; font-family:roboto\,noto\,sans-serif\; font-size:15px">Email info@teamreba.com to register for this life-changing online event\, or register directly: </span><br />\n<br />\n<span style="color:rgb(13\, 13\, 13)\; font-family:roboto\,noto\,sans-serif\; font-size:15px">#teamreba </span><span style="color:rgb(13\, 13\, 13)\; font-family:roboto\,noto\,sans-serif\; font-size:15px"> </span><span style="color:rgb(13\, 13\, 13)\; font-family:roboto\,noto\,sans-serif\; font-size:15px">#rebahaas </span><span style="color:rgb(13\, 13\, 13)\; font-family:roboto\,noto\,sans-serif\; font-size:15px"> </span><span style="color:rgb(13\, 13\, 13)\; font-family:roboto\,noto\,sans-serif\; font-size:15px">#homebridge</span><span style="color:rgb(13\, 13\, 13)\; font-family:roboto\,noto\,sans-serif\; font-size:15px"> </span><span style="color:rgb(13\, 13\, 13)\; font-family:roboto\,noto\,sans-serif\; font-size:15px">#realestate </span><span style="color:rgb(13\, 13\, 13)\; font-family:roboto\,noto\,sans-serif\; font-size:15px"> </span><span style="color:rgb(13\, 13\, 13)\; font-family:roboto\,noto\,sans-serif\; font-size:15px">#dreamhome </span><span style="color:rgb(13\, 13\, 13)\; font-family:roboto\,noto\,sans-serif\; font-size:15px"> </span><span style="color:rgb(13\, 13\, 13)\; font-family:roboto\,noto\,sans-serif\; font-size:15px">#homebuying</span><span style="color:rgb(13\, 13\, 13)\; font-family:roboto\,noto\,sans-serif\; font-size:15px"> </span><span style="color:rgb(13\, 13\, 13)\; font-family:roboto\,noto\,sans-serif\; font-size:15px">#makeyourmove </span><span style="color:rgb(13\, 13\, 13)\; font-family:roboto\,noto\,sans-serif\; font-size:15px"> </span><span style="color:rgb(13\, 13\, 13)\; font-family:roboto\,noto\,sans-serif\; font-size:15px">#adulting</span>
LOCATION:Homebridge Financial 16040 Christensen Rd\, Suite 315 Tukwila\, WA 98188
UID:e.16.11428
SEQUENCE:3
DTSTAMP:20260420T014149Z
URL:https://chamber.gorenton.com/events/details/homebuyer-master-class-11428
END:VEVENT

END:VCALENDAR
