BEGIN:VCALENDAR
VERSION:2.0
PRODID:-//ChamberMaster//Event Calendar 2.0//EN
METHOD:PUBLISH
X-PUBLISHED-TTL:P3D
REFRESH-INTERVAL:P3D
CALSCALE:GREGORIAN
BEGIN:VEVENT
DTSTART:20210218T030000Z
DTEND:20210218T040000Z
X-MICROSOFT-CDO-ALLDAYEVENT:FALSE
SUMMARY:Horace Mann Presents "Reduce Your Student Debt" for educators and nonprofit employees
DESCRIPTION:Jennifer McKasson\, Exclusive Agent for Horace Mann Insurance\, from Apples to Zebra Insurance will help you better understand the student debt you have and steps you can take to reduce the same.\n\n \n\n[Presentation designed for educators and those working in the field of non-profits]
X-ALT-DESC;FMTTYPE=text/html:<p>Jennifer McKasson\, Exclusive Agent for Horace Mann Insurance\,&nbsp\;from Apples to Zebra Insurance will help you better understand the student debt you have and steps you can take to reduce the same.</p>\n\n<p>&nbsp\;</p>\n\n<p>[Presentation designed for educators and those working in the field of non-profits]</p>\n
LOCATION:
UID:e.16.7873
SEQUENCE:3
DTSTAMP:20260420T225503Z
URL:https://chamber.gorenton.com/events/details/horace-mann-presents-reduce-your-student-debt-for-educators-and-nonprofit-employees-7873
END:VEVENT

END:VCALENDAR
