BEGIN:VCALENDAR
VERSION:2.0
PRODID:-//ChamberMaster//Event Calendar 2.0//EN
METHOD:PUBLISH
X-PUBLISHED-TTL:P3D
REFRESH-INTERVAL:P3D
CALSCALE:GREGORIAN
BEGIN:VEVENT
DTSTART:20210317T180000Z
DTEND:20210317T190000Z
X-MICROSOFT-CDO-ALLDAYEVENT:FALSE
SUMMARY:Hospitality Meetings "Welcome Wednesdays"
DESCRIPTION:An opportunity for those involved or interested in the hospitality industries to gather\, network and brainstorm.  What are they desirous for their industry/workplace?  How can we best support what they are doing?  What direction we see Renton heading?  How can the Renton Visitors Center help to reach and exceed your goals and uplift your visions?
X-ALT-DESC;FMTTYPE=text/html:An opportunity for those involved or interested in the hospitality industries to gather\, network and brainstorm.&nbsp\; What are they desirous for their industry/workplace?&nbsp\; How can we best support what they are doing?&nbsp\; What direction we see Renton heading?&nbsp\; How can the Renton Visitors Center help to reach and exceed your goals and uplift your visions?
LOCATION:Zoom Meetings - Must Pre-Register Register in advance for this meeting: https://us02web.zoom.us/meeting/register/tZ0pdeCqqjMoEtyCpyuKtxVg8re4pGzBNnX6 After registering\, you will receive a confirmation email containing information about joining the meeting.
UID:e.16.7607
SEQUENCE:3
DTSTAMP:20260420T200824Z
URL:https://chamber.gorenton.com/events/details/hospitality-meetings-welcome-wednesdays-03-17-2021-7607
END:VEVENT

END:VCALENDAR
