BEGIN:VCALENDAR
VERSION:2.0
PRODID:-//ChamberMaster//Event Calendar 2.0//EN
METHOD:PUBLISH
X-PUBLISHED-TTL:P3D
REFRESH-INTERVAL:P3D
CALSCALE:GREGORIAN
BEGIN:VEVENT
DTSTART:20220202T180000Z
DTEND:20220203T070000Z
X-MICROSOFT-CDO-ALLDAYEVENT:FALSE
SUMMARY:How to help a loved one when they don't want help
DESCRIPTION:Concerns about an older loved one's well-being are normal. Striking the right balance between fostering independence and ensuring safety can be a struggle for adult children and other care partners. Sometimes we offer help and it's ignored\, dismissed\, or refused. Granted\, this can be frustrating. However\, with patience\, persistence\, and some new approaches\, you can build a foundation for conversation\, collaboration\, and mutual understanding. By the end of this presentation\, you should have some great tools in your toolbox for managing resistance.
X-ALT-DESC;FMTTYPE=text/html:Concerns about an older loved one&rsquo\;s well-being are normal. Striking the right balance between fostering independence and ensuring safety can be a struggle for adult children and other care partners. Sometimes we offer help and it&rsquo\;s ignored\, dismissed\, or refused. Granted\, this can be frustrating. However\, with patience\, persistence\, and some new approaches\, you can build a foundation for conversation\, collaboration\, and mutual understanding. By the end of this presentation\, you should have some great tools in your toolbox for managing resistance.
LOCATION:Zoom
UID:e.16.11349
SEQUENCE:3
DTSTAMP:20260420T043017Z
URL:https://chamber.gorenton.com/events/details/how-to-help-a-loved-one-when-they-don-t-want-help-11349
END:VEVENT

END:VCALENDAR
