BEGIN:VCALENDAR
VERSION:2.0
PRODID:-//ChamberMaster//Event Calendar 2.0//EN
METHOD:PUBLISH
X-PUBLISHED-TTL:P3D
REFRESH-INTERVAL:P3D
CALSCALE:GREGORIAN
BEGIN:VEVENT
DTSTART:20211120T040000Z
DTEND:20211120T060000Z
X-MICROSOFT-CDO-ALLDAYEVENT:FALSE
SUMMARY:Hunting Bigfoot Premiere at Renton Civic Theatre
DESCRIPTION:EVENT POSTPONED - DATE *TBA*\n\nDONATION OPPORTUNITIES STILL AVAILABLE FOR THE THEATRES - 100% of proceeds go to theatres\n\n***************************************************\n\nDid he really see it? Or was it just in his head? \n\n \n\n\n\nAs he emerges from yet another long slog in the Northwest wilderness\, John's resolve remains undiminished. Long estranged from his family\, John checks in to grab some provisions and touch base with some fellow sympathizers and true believers before resuming his all-consuming quest to verify the existence of a Sasquatch he claims to have witnessed. \n\n \n\n\n\nIn Hunting Bigfoot\, Seattle-based filmmaker\, Taylor Guterson (Old Goats\, Burkholder) skillfully melds the worlds of narrative feature and documentary film to capture this portrait of a broken man obsessively pursuing personal and professional redemption in a world where many of those close to him think he's crazy. \n\n\n\nCLICK HERE TO WATCH THE TRAILER
X-ALT-DESC;FMTTYPE=text/html:<div class="OutlineElement Ltr  BCX8 SCXW173376711" font-size:="" segoe="" style="margin: 0px\; padding: 0px\; user-select: text\; -webkit-user-drag: none\; -webkit-tap-highlight-color: transparent\; overflow: visible\; cursor: text\; clear: both\; position: relative\; direction: ltr\; color: rgb(0\, 0\, 0)\; font-family: " ui="">\n<p class="Paragraph SCXW173376711 BCX8" lang="EN-US" paraeid="{eaeb47de-ec16-4774-95ec-589d53ee1190}{35}" paraid="872649639" style="margin: 0px\; padding: 0px\; user-select: text\; -webkit-user-drag: none\; -webkit-tap-highlight-color: transparent\; overflow-wrap: break-word\; vertical-align: baseline\; font-kerning: none\; background-color: transparent\; color: windowtext\;" xml:lang="EN-US"><span style="font-size:48px\;"><span style="color:#FF0000\;"><span class="TextRun SCXW173376711 BCX8" data-contrast="auto" lang="EN-US" style="margin: 0px\; padding: 0px\; user-select: text\; -webkit-user-drag: none\; -webkit-tap-highlight-color: transparent\; font-variant-numeric: normal\; font-variant-east-asian: normal\; font-style: normal\; line-height: 20.5042px\; font-family: Tahoma\, Tahoma_EmbeddedFont\, Tahoma_MSFontService\, sans-serif\;" xml:lang="EN-US"><strong>EVENT POSTPONED - DATE *TBA*</strong></span></span></span><br />\n<strong style="color: rgb(255\, 0\, 0)\; font-family: Tahoma\, Tahoma_EmbeddedFont\, Tahoma_MSFontService\, sans-serif\; font-size: 48px\;">DONATION OPPORTUNITIES STILL AVAILABLE FOR THE THEATRES - 100% of proceeds go to theatres</strong><br />\n<span class="TextRun SCXW173376711 BCX8" data-contrast="auto" lang="EN-US" style="margin: 0px\; padding: 0px\; user-select: text\; -webkit-user-drag: none\; -webkit-tap-highlight-color: transparent\; font-variant-numeric: normal\; font-variant-east-asian: normal\; color: windowtext\; font-size: 12pt\; font-style: normal\; line-height: 20.5042px\; font-family: Tahoma\, Tahoma_EmbeddedFont\, Tahoma_MSFontService\, sans-serif\;" xml:lang="EN-US">***************************************************<br />\nDid he really see it? Or was it just in his head?</span><span class="LineBreakBlob BlobObject DragDrop SCXW173376711 BCX8" style="margin: 0px\; padding: 0px\; user-select: text\; -webkit-user-drag: none\; -webkit-tap-highlight-color: transparent\; font-size: 12pt\; line-height: 20.5042px\; font-family: WordVisiCarriageReturn_MSFontService\, Tahoma\, Tahoma_EmbeddedFont\, Tahoma_MSFontService\, sans-serif\; color: windowtext\;"><span class="SCXW173376711 BCX8" style="margin: 0px\; padding: 0px\; user-select: text\; -webkit-user-drag: none\; -webkit-tap-highlight-color: transparent\; white-space: pre !important\;">&nbsp\;</span></span><br class="SCXW173376711 BCX8" style="margin: 0px\; padding: 0px\; user-select: text\; -webkit-user-drag: none\; -webkit-tap-highlight-color: transparent\; white-space: pre !important\;" />\n<span class="EOP SCXW173376711 BCX8" data-ccp-props="{" style="margin: 0px\; padding: 0px\; user-select: text\; -webkit-user-drag: none\; -webkit-tap-highlight-color: transparent\; font-size: 11pt\; line-height: 19.425px\; font-family: Tahoma\, Tahoma_EmbeddedFont\, Tahoma_MSFontService\, sans-serif\; color: windowtext\;">&nbsp\;</span></p>\n</div>\n\n<div class="OutlineElement Ltr  BCX8 SCXW173376711" font-size:="" segoe="" style="margin: 0px\; padding: 0px\; user-select: text\; -webkit-user-drag: none\; -webkit-tap-highlight-color: transparent\; overflow: visible\; cursor: text\; clear: both\; position: relative\; direction: ltr\; color: rgb(0\, 0\, 0)\; font-family: " ui="">\n<p class="Paragraph SCXW173376711 BCX8" lang="EN-US" paraeid="{eaeb47de-ec16-4774-95ec-589d53ee1190}{53}" paraid="1061791433" style="margin: 0px\; padding: 0px\; user-select: text\; -webkit-user-drag: none\; -webkit-tap-highlight-color: transparent\; overflow-wrap: break-word\; vertical-align: baseline\; font-kerning: none\; background-color: transparent\; color: windowtext\;" xml:lang="EN-US"><span class="TextRun SCXW173376711 BCX8" data-contrast="auto" lang="EN-US" style="margin: 0px\; padding: 0px\; user-select: text\; -webkit-user-drag: none\; -webkit-tap-highlight-color: transparent\; font-variant-numeric: normal\; font-variant-east-asian: normal\; color: windowtext\; font-size: 12pt\; font-style: normal\; line-height: 20.5042px\; font-family: Tahoma\, Tahoma_EmbeddedFont\, Tahoma_MSFontService\, sans-serif\;" xml:lang="EN-US">As he emerges from yet another long slog in the Northwest wilderness\, John&rsquo\;s resolve remains undiminished. Long estranged from his family\, John checks in to grab some provisions and touch base with some fellow sympathizers and true believers before resuming his all-consuming quest&mdash\;to verify the existence of a Sasquatch he claims to have witnessed.</span><span class="EOP SCXW173376711 BCX8" data-ccp-props="{" style="margin: 0px\; padding: 0px\; user-select: text\; -webkit-user-drag: none\; -webkit-tap-highlight-color: transparent\; font-size: 12pt\; line-height: 20.5042px\; font-family: Tahoma\, Tahoma_EmbeddedFont\, Tahoma_MSFontService\, sans-serif\; color: windowtext\;">&nbsp\;</span><br />\n&nbsp\;</p>\n</div>\n\n<div class="OutlineElement Ltr  BCX8 SCXW173376711" font-size:="" segoe="" style="margin: 0px\; padding: 0px\; user-select: text\; -webkit-user-drag: none\; -webkit-tap-highlight-color: transparent\; overflow: visible\; cursor: text\; clear: both\; position: relative\; direction: ltr\; color: rgb(0\, 0\, 0)\; font-family: " ui="">\n<p class="Paragraph SCXW173376711 BCX8" lang="EN-US" paraeid="{eaeb47de-ec16-4774-95ec-589d53ee1190}{59}" paraid="542123150" style="margin: 0px\; padding: 0px\; user-select: text\; -webkit-user-drag: none\; -webkit-tap-highlight-color: transparent\; overflow-wrap: break-word\; vertical-align: baseline\; font-kerning: none\; background-color: transparent\; color: windowtext\;" xml:lang="EN-US"><span class="TextRun SCXW173376711 BCX8" data-contrast="auto" lang="EN-US" style="margin: 0px\; padding: 0px\; user-select: text\; -webkit-user-drag: none\; -webkit-tap-highlight-color: transparent\; font-variant-numeric: normal\; font-variant-east-asian: normal\; color: windowtext\; font-size: 12pt\; font-style: normal\; line-height: 20.5042px\; font-family: Tahoma\, Tahoma_EmbeddedFont\, Tahoma_MSFontService\, sans-serif\;" xml:lang="EN-US">In Hunting Bigfoot\, Seattle-based filmmaker\, Taylor Guterson (Old Goats\, Burkholder) skillfully melds the worlds of narrative feature and documentary film to capture this portrait of a broken man obsessively pursuing personal and professional redemption in a world where many of those close to him think he&rsquo\;s crazy.</span><span class="EOP SCXW173376711 BCX8" data-ccp-props="{" style="margin: 0px\; padding: 0px\; user-select: text\; -webkit-user-drag: none\; -webkit-tap-highlight-color: transparent\; font-size: 12pt\; line-height: 20.5042px\; font-family: Tahoma\, Tahoma_EmbeddedFont\, Tahoma_MSFontService\, sans-serif\; color: windowtext\;">&nbsp\;</span><br />\n<br />\n<a href="https://www.youtube.com/watch?v=FwkKvXEpcMc"><span style="font-family:tahoma\;"><span style="font-size:18px\;">CLICK HERE TO WATCH THE TRAILER</span></span></a></p>\n</div>\n
LOCATION:
UID:e.16.9073
SEQUENCE:3
DTSTAMP:20260420T090815Z
URL:https://chamber.gorenton.com/events/details/hunting-bigfoot-premiere-at-renton-civic-theatre-9073
END:VEVENT

END:VCALENDAR
