BEGIN:VCALENDAR
VERSION:2.0
PRODID:-//ChamberMaster//Event Calendar 2.0//EN
METHOD:PUBLISH
X-PUBLISHED-TTL:P3D
REFRESH-INTERVAL:P3D
CALSCALE:GREGORIAN
BEGIN:VEVENT
DTSTART;VALUE=DATE:20200617
DTEND;VALUE=DATE:20200706
TRANSP:TRANSPARENT
X-MICROSOFT-CDO-ALLDAYEVENT:TRUE
SUMMARY:Hyatt Regency Lake Washington 4th of July Experience
DESCRIPTION:On This Patriotic Summer Holiday\, there is still plenty to do while social distancing!\n\n \n\nDOCK + ANCHOR\n\nLakeside Beer Garden 12PM - 9PM\n\nLive Music 3PM - 7PM\n\nDOCK + ANCHOR FOOD & BEVERAGE SPECIALS\n\nSeattle Dog Sliders // Loaded Tater Tots // Beer Specials\n\n \n\nWATERS TABLE FOOD & BEVERAGE SPECIALS  2PM - 9PM\n\nFirecracker Shrimp & 4th of July Themed Cocktails\n\n \n\nREGENCY CLUB FUN ZONE 2P -5PM\n\nSelfie Photo Area & Tattoo Station\n\n \n\nS'Mores on the Boardwalk 7PM - 9PM\n\n'Lady Lindy' Photo Op\n\n \n\nHotel Guests Receive 4th of July 'SWAG' upon arrival\n\nPicnic Basket Rentals\n\nThe Park & Beach at Gene Coulon is OPEN for enjoyment\n\nOur 24-HR Market is available!
X-ALT-DESC;FMTTYPE=text/html:<p>On This Patriotic Summer Holiday\, there is still plenty to do while social distancing!<br />\n&nbsp\;</p>\n\n<p><u><strong>DOCK + ANCHOR</strong></u></p>\n\n<p>Lakeside Beer Garden 12PM - 9PM</p>\n\n<p>Live Music 3PM - 7PM</p>\n\n<p><strong><u>DOCK + ANCHOR FOOD &amp\; BEVERAGE SPECIALS</u></strong></p>\n\n<p>Seattle Dog Sliders // Loaded Tater Tots // Beer Specials</p>\n\n<p>&nbsp\;</p>\n\n<p><strong><u>WATERS TABLE&nbsp\;FOOD &amp\; BEVERAGE SPECIALS</u></strong>&nbsp\; 2PM - 9PM</p>\n\n<p>Firecracker Shrimp &amp\; 4th of July Themed Cocktails</p>\n\n<p>&nbsp\;</p>\n\n<p><strong><u>REGENCY CLUB FUN ZONE</u></strong> 2P -5PM</p>\n\n<p>Selfie Photo Area &amp\; Tattoo Station</p>\n\n<p>&nbsp\;</p>\n\n<p>S&#39\;Mores on the Boardwalk 7PM - 9PM</p>\n\n<p>&#39\;Lady Lindy&#39\; Photo Op</p>\n\n<p>&nbsp\;</p>\n\n<p>Hotel Guests Receive 4th of July &#39\;SWAG&#39\; upon arrival</p>\n\n<p>Picnic Basket Rentals</p>\n\n<p>The Park &amp\; Beach at Gene Coulon is OPEN for enjoyment</p>\n\n<p>Our 24-HR Market is available!</p>\n
LOCATION:Hyatt Regency Lake Washington 1053 Lake Washington Blvd N Renton\, WA 98056
UID:e.16.6787
SEQUENCE:3
DTSTAMP:20260421T065824Z
URL:https://chamber.gorenton.com/events/details/hyatt-regency-lake-washington-4th-of-july-experience-6787
END:VEVENT

END:VCALENDAR
