BEGIN:VCALENDAR
VERSION:2.0
PRODID:-//ChamberMaster//Event Calendar 2.0//EN
METHOD:PUBLISH
X-PUBLISHED-TTL:P3D
REFRESH-INTERVAL:P3D
CALSCALE:GREGORIAN
BEGIN:VEVENT
DTSTART;VALUE=DATE:20220211
DTEND;VALUE=DATE:20220312
TRANSP:TRANSPARENT
X-MICROSOFT-CDO-ALLDAYEVENT:TRUE
SUMMARY:Hygiene Drive
DESCRIPTION:Help support our students and there families by donating personal care items! Here is a list of our highest needs: \n\n	Deodorant (male/female)\n	Feminine products\n	Toothbrushes (child & adult)\n	Toothpaste (child & adult)\n	Unscented body soap\n	Laundry detergent (liquid)\n	Toilet paper\n	Paper towels\n	Dish soap\n	Floss\n	Mouthwash\n	Haircare + shampoo/conditioner for Black hair texture\n	Flushable wipes\n	Makeup wipes\n	Basic first aid kit\n	Tissue\n	Shampoo/conditioner\n	Body lotion\n	Q-tips\n	Bar soap (sensitive skin)\n	Body wash\n	Loofas/wash cloths\n	Undergarments (children's underwear any size)\n	Socks (children's any size)\n	Towels\n	Diapers\n	Baby wipes\n	Baby items (Vaseline\, diaper cream\, etc.)\n	Face wash\n	Perfume\n	Dryer sheets\n	Bleach\n	Household cleaning products\n	Makeup\n	Tampons
X-ALT-DESC;FMTTYPE=text/html:Help support our students and there families by donating personal care items! Here is a list of our highest needs:&nbsp\;\n<ul>\n	<li>Deodorant (male/female)</li>\n	<li>Feminine products</li>\n	<li>Toothbrushes (child &amp\; adult)</li>\n	<li>Toothpaste (child &amp\; adult)</li>\n	<li>Unscented body soap</li>\n	<li>Laundry detergent (liquid)</li>\n	<li>Toilet paper</li>\n	<li>Paper towels</li>\n	<li>Dish soap</li>\n	<li>Floss</li>\n	<li>Mouthwash</li>\n	<li>Haircare + shampoo/conditioner for Black hair texture</li>\n	<li>Flushable wipes</li>\n	<li>Makeup wipes</li>\n	<li>Basic first aid kit</li>\n	<li>Tissue</li>\n	<li>Shampoo/conditioner</li>\n	<li>Body lotion</li>\n	<li>Q-tips</li>\n	<li>Bar soap (sensitive skin)</li>\n	<li>Body wash</li>\n	<li>Loofas/wash cloths</li>\n	<li>Undergarments (children&rsquo\;s underwear any size)</li>\n	<li>Socks (children&rsquo\;s any size)</li>\n	<li>Towels</li>\n	<li>Diapers</li>\n	<li>Baby wipes</li>\n	<li>Baby items (Vaseline\, diaper cream\, etc.)</li>\n	<li>Face wash</li>\n	<li>Perfume</li>\n	<li>Dryer sheets</li>\n	<li>Bleach</li>\n	<li>Household cleaning products</li>\n	<li>Makeup</li>\n	<li>Tampons</li>\n</ul>\n&nbsp\;<br />\n&nbsp\;
LOCATION:
UID:e.16.9090
SEQUENCE:3
DTSTAMP:20260420T025831Z
URL:https://chamber.gorenton.com/events/details/hygiene-drive-9090
END:VEVENT

END:VCALENDAR
