BEGIN:VCALENDAR
VERSION:2.0
PRODID:-//ChamberMaster//Event Calendar 2.0//EN
METHOD:PUBLISH
X-PUBLISHED-TTL:P3D
REFRESH-INTERVAL:P3D
CALSCALE:GREGORIAN
BEGIN:VEVENT
DTSTART:20180930T210000Z
DTEND:20180930T232000Z
X-MICROSOFT-CDO-ALLDAYEVENT:FALSE
SUMMARY:Hóng Hai Xíng Dòng Operation Red Sea 2018 Free Film Showing
DESCRIPTION:Presented By: Urban Ranger Mobile Cinema Info:  ReconAlphaOne@Gmail.com Venue: Renton Public KCLS Main library in the King Parker meeting room. Date: Sunday\, September 30th Showtime: 2:00pm-4:20pm Admission: Free to public at large\; first come first served Seating: 1:00-2:00pm Seats: 44 max Language: Mandarin\, Arabic Subtitle: English (custom\, ReconAlphaOne) MPAA Rating: None Running Time: 139 minutes (2 hours 19 minutes)
X-ALT-DESC;FMTTYPE=text/html:Presented By: Urban Ranger Mobile Cinema Info: &nbsp\;ReconAlphaOne@Gmail.com Venue: Renton Public KCLS Main library in the King Parker meeting room. Date: Sunday\, September 30th Showtime: 2:00pm-4:20pm Admission: Free to public at large\; first come first served Seating: 1:00-2:00pm Seats: 44 max Language: Mandarin\, Arabic Subtitle: English (custom\, ReconAlphaOne) MPAA Rating: None Running Time: 139 minutes (2 hours 19 minutes)&nbsp\;<br />\n&nbsp\;
LOCATION:Renton Public Library KCLS Main Branch King Parker Meeting Room 100 Mill Ave S Renton\, WA 98057
UID:e.16.5892
SEQUENCE:3
DTSTAMP:20260424T154356Z
URL:https://chamber.gorenton.com/events/details/h&#243;ng-hai-x&#237;ng-d&#242;ng-operation-red-sea-2018-free-film-showing-5892
END:VEVENT

END:VCALENDAR
