BEGIN:VCALENDAR
VERSION:2.0
PRODID:-//ChamberMaster//Event Calendar 2.0//EN
METHOD:PUBLISH
X-PUBLISHED-TTL:P3D
REFRESH-INTERVAL:P3D
CALSCALE:GREGORIAN
BEGIN:VEVENT
DTSTART:20190706T020000Z
DTEND:20190706T040000Z
X-MICROSOFT-CDO-ALLDAYEVENT:FALSE
SUMMARY:iD.A.Y.dream Presents: Youth Day Out: Seattle Storm Game
DESCRIPTION:Join iD.A.Y.dream as we attend the Seattle Storm vs. Atlanta Dream game! iD.A.Y.dream will be the "Birds Nest" group of the game!!!! Whoop Whoop!! We have 100 tickets total so please RSVP today Look forward to an exciting game day experience in the Birds Nest\, highlighted by coverage on KeyArena's video board and special 'Birds Nest' signs to wave during the game. iD.A.Y.dream will be shouted out through the PA and on the video-board.
X-ALT-DESC;FMTTYPE=text/html:Join iD.A.Y.dream as we attend the Seattle Storm vs. Atlanta Dream game! iD.A.Y.dream will be the &ldquo\;Birds Nest&rdquo\; group of the game!!!! Whoop Whoop!! We have 100 tickets total so please RSVP today Look forward to an exciting game day experience in the Birds Nest\, highlighted by coverage on KeyArena&rsquo\;s video board and special &lsquo\;Birds Nest&rsquo\; signs to wave during the game. iD.A.Y.dream will be shouted out through the PA and on the video-board.
LOCATION:University of Washington's Alaska Airlines Arena 3870 Montlake Blvd NE Seattle\, WA 98105
UID:e.16.6486
SEQUENCE:3
DTSTAMP:20260424T005945Z
URL:https://chamber.gorenton.com/events/details/id-a-y-dream-presents-youth-day-out-seattle-storm-game-6486
END:VEVENT

END:VCALENDAR
