BEGIN:VCALENDAR
VERSION:2.0
PRODID:-//ChamberMaster//Event Calendar 2.0//EN
METHOD:PUBLISH
X-PUBLISHED-TTL:P3D
REFRESH-INTERVAL:P3D
CALSCALE:GREGORIAN
BEGIN:VEVENT
DTSTART:20190420T203000Z
DTEND:20190420T230000Z
X-MICROSOFT-CDO-ALLDAYEVENT:FALSE
SUMMARY:iD.A.Y.dream Success Dreamers Academy & Summer Registration
DESCRIPTION:Join us as we prep and plan Resumes and Essay's. Come prepared ready to talk all things COLLEGE! We'll also be hosting our Summer Camp Parent Meeting along with on site registration! See you there!
X-ALT-DESC;FMTTYPE=text/html:Join us as we prep and plan Resumes and Essay&rsquo\;s. Come prepared ready to talk all things COLLEGE! We&rsquo\;ll also be hosting our Summer Camp Parent Meeting along with on site registration! See you there!
LOCATION:Federal Way Library 34200 1st Way South Federal Way\, WA 98003
UID:e.16.6484
SEQUENCE:3
DTSTAMP:20260424T052421Z
URL:https://chamber.gorenton.com/events/details/id-a-y-dream-success-dreamers-academy-summer-registration-6484
END:VEVENT

END:VCALENDAR
