BEGIN:VCALENDAR
VERSION:2.0
PRODID:-//ChamberMaster//Event Calendar 2.0//EN
METHOD:PUBLISH
X-PUBLISHED-TTL:P3D
REFRESH-INTERVAL:P3D
CALSCALE:GREGORIAN
BEGIN:VEVENT
DTSTART:20190420T230000Z
DTEND:20190421T013000Z
X-MICROSOFT-CDO-ALLDAYEVENT:FALSE
SUMMARY:iD.A.Y.dream - Youth Day Out - Skating
DESCRIPTION:iD.A.Y.dream presents our quarterly youth day out event. It's time to rolllll bounceeeee! Can't wait to see everyone at the rink. RSVP to sign up: info@idaydream.org
X-ALT-DESC;FMTTYPE=text/html:iD.A.Y.dream presents our quarterly youth day out event. It&rsquo\;s time to rolllll bounceeeee! Can&rsquo\;t wait to see everyone at the rink. RSVP to sign up: info@idaydream.org
LOCATION:Pattison's West 34222 Pacific Hwy S Federal Way\, WA 98003
UID:e.16.6483
SEQUENCE:3
DTSTAMP:20260424T052400Z
URL:https://chamber.gorenton.com/events/details/id-a-y-dream-youth-day-out-skating-6483
END:VEVENT

END:VCALENDAR
