BEGIN:VCALENDAR
VERSION:2.0
PRODID:-//ChamberMaster//Event Calendar 2.0//EN
METHOD:PUBLISH
X-PUBLISHED-TTL:P3D
REFRESH-INTERVAL:P3D
CALSCALE:GREGORIAN
BEGIN:VEVENT
DTSTART;VALUE=DATE:20220301
DTEND;VALUE=DATE:20220302
TRANSP:TRANSPARENT
X-MICROSOFT-CDO-ALLDAYEVENT:TRUE
SUMMARY:IDSHIELD- Reputation Management Your online persona and why it matters
DESCRIPTION:IDSHIELD- \n\nReputation Management\n\nYour online persona and why it matters}}}}\n\n\n\nIDShield's Reputation\n\nManagement:\n\n	Why your online reputation matters\n	Individual motivations to purchase\n	Decision maker sales points\n	Feature Overview\n	Product Walkthrough\n\n\n\nSmart protection for all the ways you connect\n\nIDShield provides complete protection for our Members\n\nand their Families online through:\n\n\n\nIdentity Protection\n\n24/7 monitoring to protect your data from getting in the wrong hands\n\n\n\nMalware and Device Protection\n\nProtect your devices from viruses that can damage them\n\n\n\nContinuous Financial Monitoring\n\nOngoing monitoring of your credit reports and bank accounts so you don't have\n\n\n\nComplete Restoration Services\n\nAccess to a dedicated Private Investigator to work around the clock and restore your identity if needed\n\n\n\nVPN & Password Manager\n\nConnect to the web safely and easily and securely keep track of your passwords\n\n\n\nReputation Management\n\nScan your social media for content that could damage your online reputation and easily delete it\n\n\n\nWhy your Online Reputation Matters\n\nWe continue to build our digital footprint every day\n\n\n\nThink for a moment about your own digital footprint...\n\n	Have you logged in to one or more of\n	these apps\n	this month?\n	this week?\n	today?\n	right now?\n\n\n\nAlmost every person has an extensive online history\n\n\n\nA- The average American has been building their digital footprint for 20+ years\n\n50% were online in 2000\n\n75% were online in 2009\n\n90% were online in 2019\n\n\n\nB- Individuals have over 150 online accounts\, profiles\, and apps and privacy settings are frequently changing \n\n\n\nC- The average social media user has 1\,800 pieces of content (posts\, likes\, shares\, videos\, photos\, etc.)\n\n\n\nD- Social media users have\, on average\, 4% of their content\, which could damage their reputation\n\n\n\nE- 51% of people search others online before meeting them\n\n\n\n1. Pew Research\, Internet / Broadband Fact Sheet\, April 2021\,\n\n     https://www.pewresearch.org/internet/fact-sheet/internet-broadband/\n\n2. Dashlane Inc.\, 2017-2019 Internet Account Study\n\n3. IDShield Reputation Management Member Average. 2020-2021\n\n4. Google Consumer Survey. Targeted at Professional Media Sites. 294 Respondents. Age 25+. US Based. January 2021.\n\n\n\nWe're now living in an age where how we look online matters like never before\n\n\n\n      @@@@@ Individuals are looking beyond just Google Where are they looking?\n\n51% research online before meeting\n\n54% check professional backgrounds\n\n48% look for anything negative\n\n\n\n1. Google Consumer Survey. Targeted at Professional Media Sites. 294 Respondents. Age 25+. US Based. January 2021.\n\n2. Pew Research\, March 2021\, https://www.pewresearch.org/fact-tank/2021/03/26/about-three-in-ten-u-s-adults-say-they-are-almost-constantly-online/\n\n\n\n       @@@@@ 85% of U.S. adults go online at least daily\n\nwith 31% going online constantly and 48% several times a day 2\n\n\n\n60% check\n\n59% check\n\n35% check\n\n\n\nYour online reputation matters more than ever before\n\n\n\nIt is easier than ever for others to search you online\n\n\n\nConstant access to the internet on our phones\, makes searching others simple and quick\n\nMost people have amassed a large amount of data and continue to add to it every day\n\nURL vs. IRL: We live and work online (URL) as often as in real\n\nlife (IRL)\n\n	First impressions are increasingly made online before in-person interactions\n	"As a professional today\, your online image is essential. It's more likely that a potential client will "meet" you through a Google search as at a professional conference ." - Lindsey Pollak\, New York Times Author\n	Our personal and professional lives are blended online\n	Even though some networks are intended for personal use and others for professional\, a quick search uncovers information from both and it's impossible to distinguish Judgements are being made based on the information that is easiest to access online\n	Discovering old social media posts\, regardless of when or why they were posted\, leads individuals to draw conclusions\n	Assumptions are made about:\n	Who you are\, who and what you're connected to\, and your values\n	Your political affiliations and background\n	Your credibility and trustworthiness\n\nMotivations to Purchase for Individuals\n\n\n\nYour online reputation matters across all life stages\n\n	Career\n	Job applications\n	Hiring decisions\n	Remote working\n	Networking\n	Personal\n	Online dating\n	Social networks\n	Volunteer orgs\n	Financial\n	Rent/Landlords\n	Banking\n	Insurance\n	Mortgage\n\n\n\nYour online reputation matters across all life stages\n\n	Career Personal Financial\n	Concerns of younger\n	IDShield Members Concerns of older\n	IDShield Members\n\n\n\nJobs: Social Media screening has become part of the\n\nmainstream hiring process\n\n	90% of employers look at job seekers' social media profiles \n	79% of companies have rejected a job candidate because of social media content \n	57% of companies are less likely to interview a candidate they cannot find online \n	Employees are changing jobs\, on average\, every 1-5 years \n\n1. SIA Nearly 80% of firms said 'no' to candidates because of social media content\n\n2. Career Builder Number of Employers Using Social Media to Screen Candidates at All-Time High\, Finds Latest CareerBuilder Study\n\n3. Statista\, https://www.statista.com/statistics/862572/us-employment-market-individuals-changing-jobs-every-one-to-five-years/\n\n\n\nPersonal: First impressions are happening online Online Dating\n\n	30% of U.S. adults have used a dating site or app\n	By 2024\, there will be 280 million online users of dating services\n	Relationships and Community\n	3.6 billion people used social media worldwide in 2020\n	4.41 billion social media users are projected by 2025\n\n\n\n1. Pew Research\, The Virtues and Downsides of Online Dating\, February 2020\, https://www.pewresearch.org/internet/2020/02/06/the-virtues-and-downsides-of-online-dating/\n\n2. Statista\, Online dating worldwide - Statistics and Facts\, March 2021\, https://www.statista.com/topics/7443/online-dating/\n\n3. Statista\, Number of social network users worldwide from 2017 to 2025\, September 2021 https://www.statista.com/statistics/278414/number-of-worldwide-social-network-users/\n\n\n\nFinancial: Your online reputation is a signal of your credibility and used to evaluate your creditworthiness \n\n\n\nHousing Lenders Insurance\n\nPictures of excessive partying send the wrong message to a landlord deciding to rent you their home.\n\nStability can be signaled by a consistent job history and avoiding negative posts about your colleagues\, boss\, and job.\n\nHistorical posts can impact your premiums as companies increasingly use scans to assess applications and risky behavior.\n\n\n\nDecision Maker Sales Points\n\n\n\nEmployers should encourage their employees to clean up and manage their online prof iles\n\n\n\nHeadlines can damage a company's brand and image Employees are an extension of their company's brand Reputation Management is a benefit for employees An employee's social media posts can\n\ndamage the hard-earned brand of a company that's costly to fix.\n\n\n\nEmployees list their employer on their personal profiles\, associating them to their company's brand.\n\nSupporting an employee through identity protection and reputation management is as important as other\n\nbenefits provided.\n\n\n\nProtect your online privacy and reputation today\n\n\n\nTake action to control your privacy and reputation online\n\n4. Download your data\n\n1. Clean up the past\n\n3. Update your settings\n\n2. Be cautious\n\n\n\nSearch to see what content is online\, clean up reputation-damaging posts on social media\, and check data broker sites for your data Download your data from sites like Facebook and Google to better understand what they collect Keep track of new accounts and be aware that what you share in real-time and on content websites can be stored and sold for decades Take time to walk through privacy and settings for profiles where you are sharing your personal information\n\n\n\nFeature Overview\n\nReputation Management Features\n\nSocial Media Scan Scans social media for content that could damage your online reputation and provides tools for easy resolution.\n\nReputation Score Scores your existing online reputation and provides actionable recommendations.\n\nPersona Builder:\n\nLinkedIn Tools and training to build and improve your LinkedIn profile.\n\nOnline Footprint Scans for public accounts\, profiles and websites associated with a\n\nmember.\n\nPrivacy Walkthroughs "How to" guides to improve privacy settings\, delete accounts\, download\n\ndata\, and more on 14 sites.\n\nData Broker Removal Guided instruction for removing data from 7 data broker sites.\n\n\n\nHow the Social Media scan works\n\nIDShield member authorizes social media connection The tool uses AI text and photo analysis to scan and\n\nreview historical social posts Members review flagged content and take action Profiles are rescanned on-demand \n\n\n\nConnect Analyze Action\n\n\n\nReputation Management scans for multiple risks\n\n\n\n      @@@@@@ IDShield is the only major identity protection provider\n\nthat of fers Reputation Management\n\n\n\nProduct Walkthrough\n\n\n\nOur Product is Based on Extensive Research\n\n	Our team has completed extensive research with career advisors\, graduate recruitment professionals\, and corporate HR directors to uncover the type of content that is perceived negatively\n	Companies review online content and social media posts to determine whether a person can be trusted to represent their company or their brand\n\nPercentage of companies who identify categories of posts negatively\n\n83% 71% 65% 51% 47%\n\nReferences about using illegal drugs Posts of a sexual nature\n\nUse of profanity References to guns Photos of\n\nconsuming alcohol\n\nWorkopolis\, "The top three things that employers want to see in your social media profiles\," April 2015:: h\n\nttps://careers.workopolis.com/advice/the-three-things-that-employers-want-to-find-out-about-you-online/\n\n\n\nA score is calculated based on flagged content and actions taken
X-ALT-DESC;FMTTYPE=text/html:IDSHIELD-&nbsp\;<br />\nReputation Management<br />\nYour online persona and why it matters}}}}<br />\n<br />\nIDShield&rsquo\;s Reputation<br />\nManagement:\n<ul>\n	<li>Why your online reputation matters</li>\n	<li>Individual motivations to purchase</li>\n	<li>Decision maker sales points</li>\n	<li>Feature Overview</li>\n	<li>Product Walkthrough</li>\n</ul>\n<br />\nSmart protection for all the ways you connect<br />\nIDShield provides complete protection for our Members<br />\nand their Families online through:<br />\n<br />\nIdentity Protection<br />\n24/7 monitoring to protect&nbsp\;your data from getting in the&nbsp\;wrong hands<br />\n<br />\nMalware and Device&nbsp\;Protection<br />\nProtect your devices from&nbsp\;viruses that can damage&nbsp\;them<br />\n<br />\nContinuous Financial&nbsp\;Monitoring<br />\nOngoing monitoring of your&nbsp\;credit reports and bank&nbsp\;accounts so you don&rsquo\;t have<br />\n<br />\nComplete Restoration&nbsp\;Services<br />\nAccess to a dedicated&nbsp\;Private Investigator to work&nbsp\;around the clock and restore&nbsp\;your identity if needed<br />\n<br />\nVPN &amp\; Password&nbsp\;Manager<br />\nConnect to the web safely&nbsp\;and easily and securely keep&nbsp\;track of your passwords<br />\n<br />\nReputation&nbsp\;Management<br />\nScan your social media for&nbsp\;content that could damage&nbsp\;your online reputation and&nbsp\;easily delete it<br />\n<br />\nWhy your Online Reputation Matters<br />\nWe continue to build our digital footprint every day<br />\n<br />\nThink for a moment about your own&nbsp\;digital footprint...\n<ul>\n	<li>Have you logged in to one or more of</li>\n	<li>these apps</li>\n	<li>this month?</li>\n	<li>this week?</li>\n	<li>today?</li>\n	<li>right now?</li>\n</ul>\n<br />\nAlmost every person has an extensive online history<br />\n<br />\nA- The average American&nbsp\;has been building their&nbsp\;digital footprint for&nbsp\;20+ years<br />\n50% were online in 2000<br />\n75% were online in 2009<br />\n90% were online in 2019<br />\n<br />\nB- Individuals have over&nbsp\;150 online accounts\,&nbsp\;profiles\, and apps and&nbsp\;privacy settings are&nbsp\;frequently changing&nbsp\;<br />\n<br />\nC- The average social&nbsp\;media user has 1\,800&nbsp\;pieces of content&nbsp\;(posts\, likes\, shares\,&nbsp\;videos\, photos\, etc.)<br />\n<br />\nD- Social media users&nbsp\;have\, on average\, 4%&nbsp\;of their content\, which&nbsp\;could damage their&nbsp\;reputation<br />\n<br />\nE- 51% of people search&nbsp\;others online before&nbsp\;meeting them<br />\n<br />\n1. Pew Research\, Internet / Broadband Fact Sheet\, April 2021\,<br />\n&nbsp\; &nbsp\; &nbsp\;https://www.pewresearch.org/internet/fact-sheet/internet-broadband/<br />\n2. Dashlane Inc.\, 2017-2019 Internet Account Study<br />\n3. IDShield Reputation Management Member Average. 2020-2021<br />\n4. Google Consumer Survey. Targeted at Professional Media Sites. 294 Respondents. Age 25+. US Based. January 2021.<br />\n<br />\nWe&rsquo\;re now living in an age where how we look online&nbsp\;matters like never before<br />\n<br />\n&gt\;&gt\;&gt\;&gt\;&gt\; @@@@@ Individuals are looking beyond just Google Where are they looking?<br />\n51% research online before meeting<br />\n54% check professional backgrounds<br />\n48% look for anything negative<br />\n<br />\n1. Google Consumer Survey. Targeted at Professional Media Sites. 294 Respondents. Age 25+. US Based. January 2021.<br />\n2. Pew Research\, March 2021\, https://www.pewresearch.org/fact-tank/2021/03/26/about-three-in-ten-u-s-adults-say-they-are-almost-constantly-online/<br />\n<br />\n&gt\;&gt\;&gt\;&gt\;&gt\;&gt\; @@@@@ 85% of U.S. adults go online at least daily<br />\nwith 31% going online constantly and 48% several times a day 2<br />\n<br />\n60% check<br />\n59% check<br />\n35% check<br />\n<br />\nYour online reputation matters more than ever before<br />\n<br />\nIt is easier than ever for others to search you online<br />\n<br />\nConstant access to the internet on our phones\, makes searching others simple and quick<br />\nMost people have amassed a large amount of data and continue to add to it every day<br />\nURL vs. IRL: We live and work online (URL) as often as in real<br />\nlife (IRL)\n<ul>\n	<li>First impressions are increasingly made online before in-person interactions</li>\n	<li>&ldquo\;As a professional today\, your online image is essential. It&rsquo\;s more likely that a potential client will &ldquo\;meet&rdquo\; you through a Google search as at a professional conference .&rdquo\; - Lindsey Pollak\, New York Times Author</li>\n	<li>Our personal and professional lives are blended online</li>\n	<li>Even though some networks are intended for personal use and others for professional\, a&nbsp\;quick search uncovers information from both and it&rsquo\;s impossible to distinguish&nbsp\;Judgements are being made based on the information that&nbsp\;is easiest to access online</li>\n	<li>Discovering old social media posts\, regardless of when or why they were posted\, leads individuals to draw conclusions</li>\n	<li>Assumptions are made about:</li>\n	<li>Who you are\, who and what you&rsquo\;re connected to\, and your values</li>\n	<li>Your political affiliations and background</li>\n	<li>Your credibility and trustworthiness</li>\n</ul>\nMotivations to Purchase for Individuals<br />\n<br />\nYour online reputation matters across all life stages\n<ul>\n	<li>Career</li>\n	<li>Job applications</li>\n	<li>Hiring decisions</li>\n	<li>Remote working</li>\n	<li>Networking</li>\n	<li>Personal</li>\n	<li>Online dating</li>\n	<li>Social networks</li>\n	<li>Volunteer orgs</li>\n	<li>Financial</li>\n	<li>Rent/Landlords</li>\n	<li>Banking</li>\n	<li>Insurance</li>\n	<li>Mortgage</li>\n</ul>\n<br />\nYour online reputation matters across all life stages\n<ul>\n	<li>Career Personal Financial</li>\n	<li>Concerns of younger</li>\n	<li>IDShield Members Concerns of older</li>\n	<li>IDShield Members</li>\n</ul>\n<br />\nJobs: Social Media screening has become part of the<br />\nmainstream hiring process\n<ul>\n	<li>90% of employers look at job seekers&rsquo\; social media profiles&nbsp\;</li>\n	<li>79% of companies have rejected a job candidate because of social&nbsp\;media content&nbsp\;</li>\n	<li>57% of companies are less likely to interview a candidate they&nbsp\;cannot find online&nbsp\;</li>\n	<li>Employees are changing jobs\, on average\, every 1-5 years&nbsp\;</li>\n</ul>\n1. SIA Nearly 80% of firms said &lsquo\;no&rsquo\; to candidates because of social media content<br />\n2. Career Builder Number of Employers Using Social Media to Screen Candidates at All-Time High\, Finds Latest CareerBuilder Study<br />\n3. Statista\, https://www.statista.com/statistics/862572/us-employment-market-individuals-changing-jobs-every-one-to-five-years/<br />\n<br />\nPersonal: First impressions are happening online&nbsp\;Online Dating\n<ul>\n	<li>30% of U.S. adults have used a&nbsp\;dating site or app</li>\n	<li>By 2024\, there will be 280&nbsp\;million online users of dating&nbsp\;services</li>\n	<li>Relationships and Community</li>\n	<li>3.6 billion people used social&nbsp\;media worldwide in 2020</li>\n	<li>4.41 billion social media users&nbsp\;are projected by 2025</li>\n</ul>\n<br />\n1. Pew Research\, The Virtues and Downsides of Online Dating\, February 2020\, https://www.pewresearch.org/internet/2020/02/06/the-virtues-and-downsides-of-online-dating/<br />\n2. Statista\, Online dating worldwide - Statistics and Facts\, March 2021\, https://www.statista.com/topics/7443/online-dating/<br />\n3. Statista\, Number of social network users worldwide from 2017 to 2025\, September 2021 https://www.statista.com/statistics/278414/number-of-worldwide-social-network-users/<br />\n<br />\nFinancial: Your online reputation is a signal of your&nbsp\;credibility and used to evaluate your creditworthiness&nbsp\;<br />\n<br />\nHousing Lenders Insurance<br />\nPictures of excessive partying send&nbsp\;the wrong message to a landlord&nbsp\;deciding to rent you their home.<br />\nStability can be signaled by a&nbsp\;consistent job history and avoiding&nbsp\;negative posts about your&nbsp\;colleagues\, boss\, and job.<br />\nHistorical posts can impact your&nbsp\;premiums as companies&nbsp\;increasingly use scans to assess&nbsp\;applications and risky behavior.<br />\n<br />\nDecision Maker Sales Points<br />\n<br />\nEmployers should encourage their employees to clean up&nbsp\;and manage their online prof iles<br />\n<br />\nHeadlines can damage a&nbsp\;company&rsquo\;s brand and image&nbsp\;Employees are an extension of&nbsp\;their company&rsquo\;s brand&nbsp\;Reputation Management is a&nbsp\;benefit for employees&nbsp\;An employee&#39\;s social media posts can<br />\ndamage the hard-earned brand of a&nbsp\;company that&rsquo\;s costly to fix.<br />\n<br />\nEmployees list their employer on their personal profiles\, associating them to&nbsp\;their company&rsquo\;s brand.<br />\nSupporting an employee through&nbsp\;identity protection and reputation&nbsp\;management is as important as other<br />\nbenefits provided.<br />\n<br />\nProtect your online privacy and&nbsp\;reputation today<br />\n<br />\nTake action to control your privacy and reputation online<br />\n4. Download&nbsp\;your data<br />\n1. Clean up the&nbsp\;past<br />\n3. Update your&nbsp\;settings<br />\n2. Be cautious<br />\n<br />\nSearch to see what content is online\, clean up reputation-damaging posts on&nbsp\;social media\, and check data broker sites for your data&nbsp\;Download your data from sites like Facebook and Google to better&nbsp\;understand what they collect&nbsp\;Keep track of new accounts and be aware that what you share in real-time&nbsp\;and on content websites can be stored and sold for decades&nbsp\;Take time to walk through privacy and settings for profiles where you are&nbsp\;sharing your personal information<br />\n<br />\nFeature Overview<br />\nReputation Management Features<br />\nSocial Media Scan Scans social media for content that could damage your online&nbsp\;reputation and provides tools for easy resolution.<br />\nReputation Score Scores your existing online reputation and provides actionable&nbsp\;recommendations.<br />\nPersona Builder:<br />\nLinkedIn Tools and training to build and improve your LinkedIn profile.<br />\nOnline Footprint Scans for public accounts\, profiles and websites associated with a<br />\nmember.<br />\nPrivacy Walkthroughs &ldquo\;How to&rdquo\; guides to improve privacy settings\, delete accounts\, download<br />\ndata\, and more on 14 sites.<br />\nData Broker Removal Guided instruction for removing data from 7 data broker sites.<br />\n<br />\nHow the Social Media scan works<br />\nIDShield&nbsp\;member&nbsp\;authorizes social media&nbsp\;connection&nbsp\;The tool uses AI text and&nbsp\;photo analysis to scan and<br />\nreview historical social&nbsp\;posts&nbsp\;Members review flagged&nbsp\;content and take action&nbsp\;Profiles are rescanned on-demand&nbsp\;<br />\n<br />\nConnect Analyze Action<br />\n<br />\nReputation Management scans for multiple risks<br />\n<br />\n&gt\;&gt\;&gt\;&gt\;&gt\; @@@@@@ IDShield is the only major identity protection provider<br />\nthat of fers Reputation Management<br />\n<br />\nProduct Walkthrough<br />\n<br />\nOur Product is Based on Extensive Research\n<ul>\n	<li>Our team has completed extensive research with career advisors\, graduate recruitment professionals\, and corporate HR directors to uncover the type of content that is perceived negatively</li>\n	<li>Companies review online content and social media posts to determine whether a person can be trusted to represent&nbsp\;their company or their brand</li>\n</ul>\nPercentage of companies who identify categories of posts negatively<br />\n83% 71% 65% 51% 47%<br />\nReferences about&nbsp\;using illegal drugs&nbsp\;Posts of a sexual&nbsp\;nature<br />\nUse of profanity References to guns Photos of<br />\nconsuming alcohol<br />\nWorkopolis\, &ldquo\;The top three things that employers want to see in your social media profiles\,&rdquo\; April 2015:: h<br />\nttps://careers.workopolis.com/advice/the-three-things-that-employers-want-to-find-out-about-you-online/<br />\n<br />\nA score is&nbsp\;calculated based&nbsp\;on flagged content and actions taken
LOCATION:ON_LINE ZOOM TELECONFERENCE. AUDIO CONFERENCE. Rather than leaving security up to chance\, you can proactively arm yourself against cybercrimes and reputation hijacking with IDShield's impressive online privacy and reputation management services to help ensure that your private information remains private.
UID:e.16.11413
SEQUENCE:3
DTSTAMP:20260420T030513Z
URL:https://chamber.gorenton.com/events/details/idshield-reputation-management-your-online-persona-and-why-it-matters-03-01-2022-11413
END:VEVENT

END:VCALENDAR
