BEGIN:VCALENDAR
VERSION:2.0
PRODID:-//ChamberMaster//Event Calendar 2.0//EN
METHOD:PUBLISH
X-PUBLISHED-TTL:P3D
REFRESH-INTERVAL:P3D
CALSCALE:GREGORIAN
BEGIN:VEVENT
DTSTART:20180211T020000Z
DTEND:20180211T040000Z
X-MICROSOFT-CDO-ALLDAYEVENT:FALSE
SUMMARY:Inaugural Daddy Daughter Dance by Evergreen City Ballet
DESCRIPTION:Dads and daughters\, enjoy a night just for you! Join us for Evergreen City Ballet's first-ever Daddy Daughter Dance on February 10 from 6:00-8:00 pm at Evergreen City Ballet's Black Box Theater (2230 Lind Avenue SW\, Ste. 109\, Renton\, WA 98057). This will be an evening of ballroom dance instruction\, sweet treats\, and Valentine's fun. Dance the night away with your favorite date as you are both taught new moves from a professional ballroom instructor Heather Bryant! Every child who attends will receive a swag bag upon entry and will enjoy the magical presentation and stylings of our presenting sponsor\, The Sound Factory. This will be a magical evening not to be missed! Attire for the evening is your "festive best".\n\n\n\nTickets are $20 per couple and $5 per additional guest. To make reservations\, go online to our website at evergreencityballet.org or call our Business Office at 425.228.6800. \n\n \n\nFor more information or to arrange press entry\, please contact Evan Bennett\, Executive Director at 425.228.6800. \n\n \n\n \n\nEvergreen City Ballet is a not-for-profit organization dedicated to providing the highest quality performances for audiences in the Puget Sound region\, while developing dancers and educating a diverse public and its youth in the art of dance.
X-ALT-DESC;FMTTYPE=text/html:&nbsp\;Dads and daughters\, enjoy a night just for you! Join us for Evergreen City Ballet&rsquo\;s first-ever Daddy Daughter Dance on February 10 from 6:00-8:00 pm at Evergreen City Ballet&rsquo\;s Black Box Theater (2230 Lind Avenue SW\, Ste. 109\, Renton\, WA 98057). This will be an evening of ballroom dance instruction\, sweet treats\, and Valentine&rsquo\;s fun. Dance the night away with your favorite date as you are both taught new moves from a professional ballroom instructor Heather Bryant! Every child who attends will receive a swag bag upon entry and will enjoy the magical presentation and stylings of our presenting sponsor\, The Sound Factory. This will be a magical evening not to be missed! Attire for the evening is your &ldquo\;festive best&rdquo\;.<br />\n<br />\nTickets are $20 per couple and $5 per additional guest. To make reservations\, go online to our website at evergreencityballet.org or call our Business Office at 425.228.6800.&nbsp\;<br />\n&nbsp\;<br />\nFor more information or to arrange press entry\, please contact Evan Bennett\, Executive Director at 425.228.6800.&nbsp\;<br />\n&nbsp\;<br />\n&nbsp\;<br />\nEvergreen City Ballet is a not-for-profit organization dedicated to providing the highest quality performances for audiences in the Puget Sound region\, while developing dancers and educating a diverse public and its youth in the art of dance.<br />\n&nbsp\;
LOCATION:Black Box Theater 2230 Lind Avenue SW\, Ste. 109 Renton\, WA 98057
UID:e.16.5519
SEQUENCE:3
DTSTAMP:20260425T024053Z
URL:https://chamber.gorenton.com/events/details/inaugural-daddy-daughter-dance-by-evergreen-city-ballet-5519
END:VEVENT

END:VCALENDAR
