BEGIN:VCALENDAR
VERSION:2.0
PRODID:-//ChamberMaster//Event Calendar 2.0//EN
METHOD:PUBLISH
X-PUBLISHED-TTL:P3D
REFRESH-INTERVAL:P3D
CALSCALE:GREGORIAN
BEGIN:VEVENT
DTSTART:20220616T180000Z
DTEND:20220616T203000Z
X-MICROSOFT-CDO-ALLDAYEVENT:FALSE
SUMMARY:Inspire Positive Aging Awards Luncheon
DESCRIPTION:Join us for another year of celebrating examples of positive aging! Is there an older adult in King County over the age of 60 who inspires you through their aging journey? Honor their impact with an IPAA (Inspire Positive Aging Awards) nomination! Nominations for the 17th Annual Inspire Positive Aging Awards are officially open for submissions. All nominations must be received by April 5th\, 2022\, to be eligible for consideration. Nominate here: https://www.tfaforms.com/4715874\n\n\n\nThe IPAA Luncheon celebrates and honors older adults across King County that exemplify positive aging. This year\, Sound Generations will recognize recipients in the following six categories: Advocacy + Activism\, Community Service\, Health + Wellness\, Intergenerational Impact\, Lifelong Learning\, and Defining Inspiration.
X-ALT-DESC;FMTTYPE=text/html:<p><span style="font-size:14px"><span style="color:rgb(0\, 0\, 0)\; font-family:avenir lt w01_45 book1475508\,sans-serif">Join us for another year of celebrating examples of positive aging! Is there an older adult in King County over the age of 60 who inspires you through their aging journey? Honor their impact with an IPAA (Inspire Positive Aging Awards) nomination! Nominations for the 17</span><span style="color:rgb(0\, 0\, 0)\; font-family:avenir lt w01_45 book1475508\,sans-serif">th</span><span style="color:rgb(0\, 0\, 0)\; font-family:avenir lt w01_45 book1475508\,sans-serif">&nbsp\;Annual Inspire Positive Aging Awards are officially open for submissions. All nominations must be received by&nbsp\;</span><span style="color:rgb(0\, 0\, 0)\; font-family:avenir lt w01_95 black1475556\,sans-serif">April 5th\, 2022\,</span><span style="color:rgb(0\, 0\, 0)\; font-family:avenir lt w01_45 book1475508\,sans-serif">&nbsp\;to be eligible for consideration. Nominate here:&nbsp\;</span></span><a href="https://www.tfaforms.com/4715874">https://www.tfaforms.com/4715874</a><br />\n<br />\n<span style="font-size:14px"><span style="color:rgb(0\, 0\, 0)\; font-family:avenir lt w01_45 book1475508\,sans-serif">The IPAA Luncheon celebrates and honors older adults across King County that exemplify positive aging. This year\, Sound Generations will recognize recipients in the following six categories: Advocacy + Activism\, Community Service\, Health + Wellness\, Intergenerational Impact\, Lifelong Learning\, and Defining Inspiration.&nbsp\;</span></span></p>\n
LOCATION:Seattle Airport Marriott | 3201 S 176th St\, Seattle\, WA 98188
UID:e.16.11418
SEQUENCE:3
DTSTAMP:20260419T231656Z
URL:https://chamber.gorenton.com/events/details/inspire-positive-aging-awards-luncheon-11418
END:VEVENT

END:VCALENDAR
