BEGIN:VCALENDAR
VERSION:2.0
PRODID:-//ChamberMaster//Event Calendar 2.0//EN
METHOD:PUBLISH
X-PUBLISHED-TTL:P3D
REFRESH-INTERVAL:P3D
CALSCALE:GREGORIAN
BEGIN:VEVENT
DTSTART:20210830T193000Z
DTEND:20210830T200000Z
X-MICROSOFT-CDO-ALLDAYEVENT:FALSE
SUMMARY:AUGUST - It’s Make-a-Will Month: Get Started Now
DESCRIPTION:AUGUST - It's Make-a-Will Month: Get Started Now A "FREE" LegalShield WILL\n\n\n\nhttps://player.vimeo.com/video/383360098\n\n\n\nhttps://player.vimeo.com/video/230674588\n\n\n\nAugust is Make-a-Will Month and a perfect opportunity to complete your will. One of the greatest benefits of your LegalShield policy is the will package. The process starts with completing the LegalShield will questionnaire\, which is available via the LegalShield app (download for Apple or Android devices). You may also obtain a will questionnaire by calling LegalShield or your provider law firm. Your provider law firm information can be located on your LegalShield mobile app or through the "Ask Erin" feature on www.legalshield.com. The following tips will help you begin your will questionnaire but if you have any legal questions contact your provider law firm and speak with an attorney.\n\n\n\nLAST WILL & TESTAMENT\n\nProtect and Empower Your Loved Ones\n\nCreating a Will on your own can be overwhelming and time consuming. Without the help of an attorney\, you may not have the peace of mind that your wishes will be communicated to your loved ones or that a court will honor your wishes.\n\n\n\nMost attorneys charge an average of $1\,500 to draft a basic Will and estate plan. There is a better option.\n\n\n\nA LegalShield Plan is just $24.95 per month. It covers you\, your spouse & your children and comes with a Will drafted by your provider attorney at no additional charge.\n\n\n\nEliminate Family Conflict\n\n\n\nPart of our responsibility to our family is preparing for our passing and making sure that the legal aspects of our affairs are as organized and manageable as possible.\n\n\n\nA Last Will and Testament ("Will") is a legal document which provides who is to receive your property after your death\, who will administer your estate\, who will serve as guardian of your children\, if applicable\, and other provisions. It is important that your wishes are communicated to your loved ones and gives them guidance in making difficult decisions. Questions of guardianship of children and even pets may be left to the courts if you die without a Will.\n\n\n\nSadly\, 35% of Americans say they have had some sort of family conflict due to a loved one dying without a Will. Without clear direction on distributing your assets\, your family may be left without direction and may experience conflict.\n\n\n\nA well drafted Will helps make sure your loved ones are taken care of in the manner you wish\, and that provides at least a small measure of comfort during a difficult time. Each state has laws governing Wills. Please contact your provider law firm for assistance.\n\n \n\nSave Time & Money\n\n\n\n\nIf you pass away without a Will\, it's referred to as having died intestate. If this happens\, a court must determine how to distribute your assets. The more this process drags on\, the more fees and taxes your loved ones end up paying.\n\nWithout a Will\, probate can consume your loved ones' time for up to 2 years and eat up 3-7% of the value of your estate.\n\nYou can save your family from this probate nightmare by working with an experienced estate planning attorney to make sure your estate is in order.\n\n\n\nPlan for the Unexpected\n\n\n\nAs your life changes\, so should your Will. Major life events are often signs you should create\, or update your Will.\n\n\n\nMarriage\n\nEngagement\n\nChildren\n\nRetirement\n\nDivorce\n\nPurchase or Sale of home\n\nBusiness ownership\n\nDeath of a loved one\n\nWork with an experienced attorney to create a Last Will & Testament which can be updated to accommodate your needs as your life changes.
X-ALT-DESC;FMTTYPE=text/html:AUGUST - It&rsquo\;s Make-a-Will Month: Get Started Now A &quot\;FREE&quot\; LegalShield WILL<br />\n<br />\nhttps://player.vimeo.com/video/383360098<br />\n<br />\nhttps://player.vimeo.com/video/230674588<br />\n<br />\nAugust is Make-a-Will Month and a perfect opportunity to complete your will. One of the greatest benefits of your LegalShield policy is the will package. The process starts with completing the LegalShield will questionnaire\, which is available via the LegalShield app (download for Apple or Android devices). You may also obtain a will questionnaire by calling LegalShield or your provider law firm. Your provider law firm information can be located on your LegalShield mobile app or through the &ldquo\;Ask Erin&rdquo\; feature on www.legalshield.com. The following tips will help you begin your will questionnaire but if you have any legal questions contact your provider law firm and speak with an attorney.<br />\n<br />\nLAST WILL &amp\; TESTAMENT<br />\nProtect and Empower Your Loved Ones<br />\nCreating a Will on your own can be overwhelming and time consuming. Without the help of an attorney\, you may not have the peace of mind that your wishes will be communicated to your loved ones or that a court will honor your wishes.<br />\n<br />\nMost attorneys charge an average of $1\,500 to draft a basic Will and estate plan. There is a better option.<br />\n<br />\nA LegalShield Plan is just $24.95 per month. It covers you\, your spouse &amp\; your children and comes with a Will drafted by your provider attorney at no additional charge.<br />\n<br />\nEliminate Family Conflict<br />\n<br />\nPart of our responsibility to our family is preparing for our passing and making sure that the legal aspects of our affairs are as organized and manageable as possible.<br />\n<br />\nA Last Will and Testament (&ldquo\;Will&rdquo\;) is a legal document which provides who is to receive your property after your death\, who will administer your estate\, who will serve as guardian of your children\, if applicable\, and other provisions. It is important that your wishes are communicated to your loved ones and gives them guidance in making difficult decisions. Questions of guardianship of children and even pets may be left to the courts if you die without a Will.<br />\n<br />\nSadly\, 35% of Americans say they have had some sort of family conflict due to a loved one dying without a Will. Without clear direction on distributing your assets\, your family may be left without direction and may experience conflict.<br />\n<br />\nA well drafted Will helps make sure your loved ones are taken care of in the manner you wish\, and that provides at least a small measure of comfort during a difficult time. Each state has laws governing Wills. Please contact your provider law firm for assistance.<br />\n&nbsp\;\n<div>\n<p>Save Time &amp\; Money</p>\n</div>\n\n<div>\n<div>\n<p>If you pass away without a Will\, it&rsquo\;s referred to as&nbsp\;<a href="https://www.legalshield.com/blog/what-you-need-know-when-writing-will" style="box-sizing: inherit\; background-color: transparent\; line-height: inherit\; color: rgb(112\, 70\, 140)\; cursor: pointer\;">having died intestate</a>. If this happens\, a court must determine how to distribute your assets.&nbsp\;The more this process drags on\, the more fees and taxes your loved ones end up paying.</p>\n\n<p>Without a Will\, probate can consume your loved ones&#39\; time for up to&nbsp\;2 years&nbsp\;and eat up&nbsp\;3-7% of the value of your estate.</p>\n\n<p>You can&nbsp\;<a href="https://www.legalshield.com/estate-planning/probate" style="box-sizing: inherit\; background-color: transparent\; line-height: inherit\; color: rgb(112\, 70\, 140)\; cursor: pointer\;">save your family from this probate nightmare</a>&nbsp\;by working with an experienced estate planning attorney to make sure your estate is in order.<br />\n<br />\nPlan for the Unexpected<br />\n<br />\nAs your life changes\, so should your Will. Major life events are often signs you should create\, or update your Will.<br />\n<br />\nMarriage<br />\nEngagement<br />\nChildren<br />\nRetirement<br />\nDivorce<br />\nPurchase or Sale of home<br />\nBusiness ownership<br />\nDeath of a loved one<br />\nWork with an experienced attorney to create a Last Will &amp\; Testament which can be updated to accommodate your needs as your life changes.<br />\n<br />\n&nbsp\;</p>\n</div>\n</div>\n
LOCATION:NOTE- This is a VIRTUAL\, ZOOM webinar ONLY\, Not on location\, not live in person. Charles Schmidt invites you to a WebMeeting. Title: HEY GET YOUR WILL DONE FINALLY SEE HOW Meeting Time: 08/30/2021 12:30 PM PDT Meeting Link: Click Here If you are having trouble clicking the link in your email\, please copy and paste this URL into your web browser: https://legalshield.myvoffice.com/index.cfm?Fuse=public/DisplayPage&Page=JoinWebMeetings&MeetingID=7BCACE7DE967B7B6C3F555CD7B4EC6AC38791F5033EF3AAE6DEC7351F468A5D442FE982FE53BB74CC3E186B6461D0401
UID:e.16.8290
SEQUENCE:3
DTSTAMP:20260420T132516Z
URL:https://chamber.gorenton.com/events/details/it-s-make-a-will-month-get-started-now-a-free-legalshield-will-8290
END:VEVENT

END:VCALENDAR
