BEGIN:VCALENDAR
VERSION:2.0
PRODID:-//ChamberMaster//Event Calendar 2.0//EN
METHOD:PUBLISH
X-PUBLISHED-TTL:P3D
REFRESH-INTERVAL:P3D
CALSCALE:GREGORIAN
BEGIN:VEVENT
DTSTART:20180126T010000Z
DTEND:20180126T030000Z
X-MICROSOFT-CDO-ALLDAYEVENT:FALSE
SUMMARY:January After Hours Event: Avanti Markets
DESCRIPTION:Avanti Market invites you to their After Hours Event this January 25th.\n\nLearn about their business\, micro markets\, and see how this new and innovative alternative to break rooms and vending machines applies in our modern day workplace.
X-ALT-DESC;FMTTYPE=text/html:<p style="margin: 0px 0px 10.66px\;"><span style="font-size:18px\;"><font face="Calibri">Avanti Market invites you to their After Hours Event this January 25<sup>th</sup>.</font></span></p>\n\n<p style="margin: 0px 0px 10.66px\;"><span style="font-size:18px\;"><font face="Calibri">Learn about their business\, micro markets\, and see how this new and innovative alternative to break rooms and vending machines applies in our modern day workplace.</font></span></p>\n
LOCATION:Avanti Markets 1217 SW 7th St. Renton\, WA 98057
UID:e.16.5514
SEQUENCE:3
DTSTAMP:20260425T040034Z
URL:https://chamber.gorenton.com/events/details/january-after-hours-event-avanti-markets-5514
END:VEVENT

END:VCALENDAR
