BEGIN:VCALENDAR
VERSION:2.0
PRODID:-//ChamberMaster//Event Calendar 2.0//EN
METHOD:PUBLISH
X-PUBLISHED-TTL:P3D
REFRESH-INTERVAL:P3D
CALSCALE:GREGORIAN
BEGIN:VEVENT
DTSTART:20220221T200000Z
DTEND:20220221T210000Z
X-MICROSOFT-CDO-ALLDAYEVENT:FALSE
SUMMARY:Japanese Day of Remembrance Display Unveiling!
DESCRIPTION:For this year's "Day of Remembrance"\, the 80th anniversary of the signing of Executive order 9066\, we will be partnering with Densho to collect our residents' memorabilia from the Japanese American Incarceration. We will host an unveiling and reception including Japanese refreshments. \n\n\n\nGuests must wear a mask and be fully vaccinated.
X-ALT-DESC;FMTTYPE=text/html:For this year&rsquo\;s &ldquo\;Day of Remembrance&rdquo\;\, the 80th anniversary of the signing of Executive order 9066\, we will be partnering with Densho to collect our residents&rsquo\; memorabilia from the Japanese American Incarceration. We will host an unveiling and reception including Japanese refreshments.&nbsp\;<br />\n<br />\nGuests must wear a mask and be fully vaccinated.
LOCATION:The Lakeshore Retirement Community
UID:e.16.11357
SEQUENCE:3
DTSTAMP:20260420T043122Z
URL:https://chamber.gorenton.com/events/details/japanese-day-of-remembrance-display-unveiling-11357
END:VEVENT

END:VCALENDAR
