BEGIN:VCALENDAR
VERSION:2.0
PRODID:-//ChamberMaster//Event Calendar 2.0//EN
METHOD:PUBLISH
X-PUBLISHED-TTL:P3D
REFRESH-INTERVAL:P3D
CALSCALE:GREGORIAN
BEGIN:VEVENT
DTSTART:20181215T220000Z
DTEND:20181216T001500Z
X-MICROSOFT-CDO-ALLDAYEVENT:FALSE
SUMMARY:?? ??? ??? Jigeum Mannareo Gamnida (Be with You) 2018 Free Film Screening
DESCRIPTION:Synopsis: Soo-ah (Son Ye-jin)\, before passing away makes an unbelievable promise to her husband\, Woo-jin (So Ji-sub)\, to return one year later on a rainy day. Miraculously\, she keeps the promise and reappears before her husband and son but all her memories have disappeared. Tragically\, the relief at their reunion is short-lived\, because it turns out that Soo-ah has to leave her family once again.
X-ALT-DESC;FMTTYPE=text/html:Synopsis: Soo-ah (Son Ye-jin)\, before passing away makes an unbelievable promise to her husband\, Woo-jin (So Ji-sub)\, to return one year later on a rainy day. Miraculously\, she keeps the promise and reappears before her husband and son but all her memories have disappeared. Tragically\, the relief at their reunion is short-lived\, because it turns out that Soo-ah has to leave her family once again.
LOCATION:Renton Public KCLS Main Library\, King Parker Meeting Room 100 Mill Ave S\, Renton\, WA 98057\, 425-226-6043
UID:e.16.5982
SEQUENCE:3
DTSTAMP:20260424T110406Z
URL:https://chamber.gorenton.com/events/details/jigeum-mannareo-gamnida-be-with-you-2018-free-film-screening-5982
END:VEVENT

END:VCALENDAR
