BEGIN:VCALENDAR
VERSION:2.0
PRODID:-//ChamberMaster//Event Calendar 2.0//EN
METHOD:PUBLISH
X-PUBLISHED-TTL:P3D
REFRESH-INTERVAL:P3D
CALSCALE:GREGORIAN
BEGIN:VEVENT
DTSTART:20220116T180000Z
DTEND:20220116T194500Z
X-MICROSOFT-CDO-ALLDAYEVENT:FALSE
SUMMARY:JUDA Hebrew School of the Arts
DESCRIPTION:It's a parents dream come true: Drop your kids off Sunday mornings for drama\, art\, and cooking + Jewish fun. Limited spots!\n\n\n\nAt JUDA - Renton's Hebrew School of the Arts\, children have the opportunity to explore and experience Judaism through cooking\, drama\, and art.\n\n \n\nThey also learn to read Hebrew using the widely successful and motivating Aleph Champ Hebrew Language Program and receive Bar/Bat Mitzvah Prep.\n\n \n\nSundays\, 10:00 - 11:45 AM\n\nAges 3-13\n\n \n\nCurious to hear more? Or to enroll:\n\nJewishRenton.com/juda\n\nShternie 347-726-0868
X-ALT-DESC;FMTTYPE=text/html:<div>It&#39\;s a parents dream come true: Drop your kids off Sunday mornings for drama\, art\, and cooking + Jewish fun. Limited spots!<br />\n<br />\nAt JUDA - Renton&rsquo\;s Hebrew School of the Arts\, children have the opportunity to explore and experience Judaism through cooking\, drama\, and art.<br />\n&nbsp\;</div>\n\n<div>They also learn to read Hebrew using the widely successful and motivating Aleph Champ Hebrew Language Program and receive Bar/Bat Mitzvah Prep.<br />\n&nbsp\;</div>\n\n<div>Sundays\, 10:00 - 11:45 AM<br />\nAges 3-13</div>\n\n<div>&nbsp\;</div>\n\n<div>Curious to hear more? Or to enroll:<br />\n<a class="oajrlxb2 g5ia77u1 qu0x051f esr5mh6w e9989ue4 r7d6kgcz rq0escxv nhd2j8a9 nc684nl6 p7hjln8o kvgmc6g5 cxmmr5t8 oygrvhab hcukyx3x jb3vyjys rz4wbd8a qt6c0cv9 a8nywdso i1ao9s8h esuyzwwr f1sip0of lzcic4wl py34i1dx gpro0wi8" href="https://l.facebook.com/l.php?u=http%3A%2F%2FJewishRenton.com%2Fjuda%3Ffbclid%3DIwAR3HlteRqziTdtoP_1dzkrbayYr8tDe5Agupl3SnqBZytMxOunraw3tr9cY&amp\;h=AT3xnDK-NFCv3fCuAN4Y6JlN8qSn4GSGgcx8PvkGkAXTwZJoif6_TOvxOKg8JJf9alzjzgvP9kS8S5PRsJccPdhl9YRg6uFuDON8wKE3RxJk2zLHUvXJIKobVV85_Out1sl9OY2dSYhlPuM7Rv3F7SmMEQ&amp\;__tn__=q&amp\;c[0]=AT02LSejM4DMafNtyDpP_ZEKwAYPNr6zI5dJk8a9d6rpocQakBJK-Gci2xIczCyRLlivHQUlEzEH-uxjWSLT9JqHbSEi8YKlt2o5f84ZmpoAu_vjKB8E7XRWiCSRLIKaY7cYqxrgCT3UIELaigx5taVFSkibHkh_RVOgyrphia_7-ozIYg" rel="nofollow noopener" style="color: var(--blue-link)\; cursor: pointer\; text-decoration-line: none\; outline: none\; list-style: none\; border-width: 0px\; border-style: initial\; border-color: initial\; padding: 0px\; margin: 0px\; touch-action: manipulation\; background-color: transparent\; text-align: inherit\; display: inline\; -webkit-tap-highlight-color: transparent\; box-sizing: border-box\; font-family: inherit\;" tabindex="0" target="_blank">JewishRenton.com/juda</a><br />\nShternie 347-726-0868</div>\n
LOCATION:
UID:e.16.8405
SEQUENCE:3
DTSTAMP:20260420T074151Z
URL:https://chamber.gorenton.com/events/details/juda-hebrew-school-of-the-arts-01-16-2022-8405
END:VEVENT

END:VCALENDAR
