BEGIN:VCALENDAR
VERSION:2.0
PRODID:-//ChamberMaster//Event Calendar 2.0//EN
METHOD:PUBLISH
X-PUBLISHED-TTL:P3D
REFRESH-INTERVAL:P3D
CALSCALE:GREGORIAN
BEGIN:VEVENT
DTSTART:20190628T200000Z
DTEND:20190628T223000Z
X-MICROSOFT-CDO-ALLDAYEVENT:FALSE
SUMMARY:Kaiser takes you back to the '40s & '50s
DESCRIPTION:Kaiser Permanente will host an event taking you back to the '40s & '50s. Join in as they present guest speakers along with classic automobiles from the Kaiser-Frazer Car Club with music from the "40s and '50s. They will also have a "you and your first car" contest.\n\nFor more information call 206-399-1047\n\nRefreshments courtesy of Kaiser Permanente.\n\nFor a more detailed look at the event flyer go HERE
X-ALT-DESC;FMTTYPE=text/html:<em><strong><a href="https://wa.kaiserpermanente.org/"><span style="color:#0000FF\;">Kaiser Permanente</span></a></strong></em> will host an event taking you back to the &#39\;40s &amp\; &#39\;50s. Join in as they present guest speakers along with classic automobiles from the <em><strong><a href="https://kfoci.wildapricot.org/?fbclid=IwAR3OuKrvlMWUSYYrl1zzieqKtzsH3N4Na2LwPM0Be9B_ixHVeIUrccy80jM"><span style="color:#0000FF\;">Kaiser-Frazer Car Club</span></a></strong></em> with music from the &quot\;40s and &#39\;50s. They will also have a &quot\;you and your first car&quot\; contest.<br />\nFor more information call 206-399-1047<br />\nRefreshments courtesy of Kaiser Permanente.<br />\nFor a more detailed look at the event flyer go <a href="https://chambermaster.blob.core.windows.net/userfiles/UserFiles/chambers/16/File/Kaiser-Event-Flyer-Renton_Senior_Center-6-28.pdf"><span style="color:#0000FF\;"><em><strong>HERE</strong></em></span></a>
LOCATION:Renton Senior Activity Center 211 Burnett Ave. North Renton\, WA 98057
UID:e.16.6575
SEQUENCE:3
DTSTAMP:20260424T022057Z
URL:https://chamber.gorenton.com/events/details/kaiser-takes-you-back-to-the-40s-50s-6575
END:VEVENT

END:VCALENDAR
