BEGIN:VCALENDAR
VERSION:2.0
PRODID:-//ChamberMaster//Event Calendar 2.0//EN
METHOD:PUBLISH
X-PUBLISHED-TTL:P3D
REFRESH-INTERVAL:P3D
CALSCALE:GREGORIAN
BEGIN:VEVENT
DTSTART:20200125T220000Z
DTEND:20200126T000000Z
X-MICROSOFT-CDO-ALLDAYEVENT:FALSE
SUMMARY:Key to Change Benefit: Dr. Quinton Morris and Joseph Williams in Recital
DESCRIPTION:Join Key to Change Director Dr. Quinton Morris and collaborative pianist Joseph Williams for a very special concert benefiting the Empowering Youth for Change Fund. The program features wide-ranging music by the Chevalier de Saint-Georges\, Johannes Brahms\, Richard Strauss\, and William Grant Still.
X-ALT-DESC;FMTTYPE=text/html:<p style="margin-bottom:7.5pt\;line-height:150%"><span style="font-size:12.0pt\;\nline-height:150%\;font-family:">Join <u><a href="http://keytochangestudio.org/">Key to Change</a></u> Director Dr. Quinton Morris and collaborative pianist Joseph Williams for a very special concert benefiting the <a href="http://keytochangestudio.org/empowering-youth-for-change/?utm_source=Key+to+Change&amp\;utm_campaign=2306f9aac6-EMAIL_CAMPAIGN_2018_03_27_COPY_01&amp\;utm_medium=email&amp\;utm_term=0_f03f786201-2306f9aac6-102645465" target="_blank"><span style="color:#007C89">Empowering Youth for Change Fund</span></a>. The program features wide-ranging music by the Chevalier de Saint-Georges\, Johannes Brahms\, Richard Strauss\, and William Grant Still.</span></p>\n<iframe allow="accelerometer\; autoplay\; encrypted-media\; gyroscope\; picture-in-picture" allowfullscreen="" frameborder="0" height="315" src="https://www.youtube.com/embed/UTErAT4xMx8" width="560"></iframe>
LOCATION:Renton IKEA Performing Arts Center 400 S 2nd St. Renton WA\, 98057
UID:e.16.6714
SEQUENCE:3
DTSTAMP:20260423T162612Z
URL:https://chamber.gorenton.com/events/details/key-to-change-benefit-dr-quinton-morris-and-joseph-williams-in-recital-6714
END:VEVENT

END:VCALENDAR
