BEGIN:VCALENDAR
VERSION:2.0
PRODID:-//ChamberMaster//Event Calendar 2.0//EN
METHOD:PUBLISH
X-PUBLISHED-TTL:P3D
REFRESH-INTERVAL:P3D
CALSCALE:GREGORIAN
BEGIN:VEVENT
DTSTART:20221008T003000Z
DTEND:20221008T020000Z
X-MICROSOFT-CDO-ALLDAYEVENT:FALSE
SUMMARY:Key to Change Studio Launch Party
DESCRIPTION:Come celebrate the opening of Key to Change's string studio by attending our launch party!\n\nKey to Change is a non-profit violin and viola studio that serves students in Renton and South King County. Explore our new space\, listen to student performances\, learn about our new initiatives\, and meet our staff and board. We'll also have special remarks from King County Councilmember Dave Upthegrove. We are very excited to be a member of the Renton community.\n\nPlease RSVP to attend: https://www.keytochangestudio.org/event/launch-party/
X-ALT-DESC;FMTTYPE=text/html:<span style="color:rgb(38\, 38\, 38)\; font-family:-apple-system\,blinkmacsystemfont\,segoe ui\,roboto\,helvetica\,arial\,sans-serif\; font-size:14px"><strong>Come celebrate the opening of Key to Change&#39\;s string studio by attending our launch party!</strong><br />\nKey to Change is a non-profit violin and viola studio that serves students in Renton and South King County. Explore our new space\, listen to student performances\, learn about our new initiatives\, and meet our staff and board. We&rsquo\;ll also have special remarks from King County Councilmember Dave Upthegrove. We are very excited to be a member of the Renton community.<br />\nPlease RSVP to attend:&nbsp\;<a href="https://www.keytochangestudio.org/event/launch-party/">https://www.keytochangestudio.org/event/launch-party/</a></span>
LOCATION:200 SW Langston Road Renton\, WA 98057 Please note: There are stairs to and from the studio.
UID:e.16.13613
SEQUENCE:3
DTSTAMP:20260419T174353Z
URL:https://chamber.gorenton.com/events/details/key-to-change-studio-launch-party-10-07-2022-13613
END:VEVENT

END:VCALENDAR
