BEGIN:VCALENDAR
VERSION:2.0
PRODID:-//ChamberMaster//Event Calendar 2.0//EN
METHOD:PUBLISH
X-PUBLISHED-TTL:P3D
REFRESH-INTERVAL:P3D
CALSCALE:GREGORIAN
BEGIN:VEVENT
DTSTART:20180127T200000Z
DTEND:20180128T060000Z
X-MICROSOFT-CDO-ALLDAYEVENT:FALSE
SUMMARY:Kick off the Cons Party! (RenCon)
DESCRIPTION:Come mingle with various local cons\, game companies\, vendors\, artists\, & podcasters. \n\n\n\nShow off your creativity & enter the kid or adult cosplay contest.\n\nFirst place will win 1 badge to ECCC 2018!\n\n\n\nWe will also have an exhibition area\, artist ally\, puzzle escape room & live DJ.\n\n\n\nTickets are $15 for attendees. Kids 10 & under are $5\n\nPrice includes one ticket to the con badge raffle! \n\n*Additional raffle tickets will be available for purchase\n\n\n\nTables are $20. If you would like one please contact Info@rentoncomicon.com for more information.\n\n\n\nDon't miss out on this awesome event to connect with others in the con community!
X-ALT-DESC;FMTTYPE=text/html:<span style="background-color: transparent\; color: rgb(102\, 106\, 115)\; font-family: Benton Sans\,-apple-system\,BlinkMacSystemFont\,Roboto\,Helvetica Neue\,Helvetica\,Tahoma\,Arial\,sans-serif\; font-size: 15px\; font-style: normal\; font-variant: normal\; font-weight: 400\; letter-spacing: 0.5px\; orphans: 2\; padding-top: 0px\; text-align: left\; text-decoration: none\; text-indent: 0px\; text-transform: none\; -webkit-text-stroke-width: 0px\; white-space: normal\; word-spacing: 0px\;">Come mingle with various local cons\, game companies\, vendors\, artists\, &amp\; podcasters. </span><br style="background-color: transparent\; color: rgb(102\, 106\, 115)\; font-family: Benton Sans\,-apple-system\,BlinkMacSystemFont\,Roboto\,Helvetica Neue\,Helvetica\,Tahoma\,Arial\,sans-serif\; font-size: 15px\; font-style: normal\; font-variant: normal\; font-weight: 400\; letter-spacing: 0.5px\; margin-bottom: 0px\; margin-left: 0px\; margin-right: 0px\; margin-top: 0px\; orphans: 2\; padding-bottom: 0px\; padding-left: 0px\; padding-right: 0px\; padding-top: 0px\; text-align: left\; text-decoration: none\; text-indent: 0px\; text-transform: none\; -webkit-text-stroke-width: 0px\; white-space: normal\; word-spacing: 0px\;" />\n<br style="background-color: transparent\; color: rgb(102\, 106\, 115)\; font-family: Benton Sans\,-apple-system\,BlinkMacSystemFont\,Roboto\,Helvetica Neue\,Helvetica\,Tahoma\,Arial\,sans-serif\; font-size: 15px\; font-style: normal\; font-variant: normal\; font-weight: 400\; letter-spacing: 0.5px\; margin-bottom: 0px\; margin-left: 0px\; margin-right: 0px\; margin-top: 0px\; orphans: 2\; padding-bottom: 0px\; padding-left: 0px\; padding-right: 0px\; padding-top: 0px\; text-align: left\; text-decoration: none\; text-indent: 0px\; text-transform: none\; -webkit-text-stroke-width: 0px\; white-space: normal\; word-spacing: 0px\;" />\n<span style="background-color: transparent\; color: rgb(102\, 106\, 115)\; font-family: Benton Sans\,-apple-system\,BlinkMacSystemFont\,Roboto\,Helvetica Neue\,Helvetica\,Tahoma\,Arial\,sans-serif\; font-size: 15px\; font-style: normal\; font-variant: normal\; font-weight: 400\; letter-spacing: 0.5px\; margin-bottom: 0px\; margin-left: 0px\; margin-right: 0px\; margin-top: 0px\; orphans: 2\; padding-bottom: 0px\; padding-left: 0px\; padding-right: 0px\; padding-top: 0px\; text-align: left\; text-decoration: none\; text-indent: 0px\; text-transform: none\; -webkit-text-stroke-width: 0px\; white-space: normal\; word-spacing: 0px\;">Show off your creativity &amp\; enter the kid or adult cosplay contest.</span><br style="background-color: transparent\; color: rgb(102\, 106\, 115)\; font-family: Benton Sans\,-apple-system\,BlinkMacSystemFont\,Roboto\,Helvetica Neue\,Helvetica\,Tahoma\,Arial\,sans-serif\; font-size: 15px\; font-style: normal\; font-variant: normal\; font-weight: 400\; letter-spacing: 0.5px\; margin-bottom: 0px\; margin-left: 0px\; margin-right: 0px\; margin-top: 0px\; orphans: 2\; padding-bottom: 0px\; padding-left: 0px\; padding-right: 0px\; padding-top: 0px\; text-align: left\; text-decoration: none\; text-indent: 0px\; text-transform: none\; -webkit-text-stroke-width: 0px\; white-space: normal\; word-spacing: 0px\;" />\n<span style="background-color: transparent\; color: rgb(102\, 106\, 115)\; font-family: Benton Sans\,-apple-system\,BlinkMacSystemFont\,Roboto\,Helvetica Neue\,Helvetica\,Tahoma\,Arial\,sans-serif\; font-size: 15px\; font-style: normal\; font-variant: normal\; font-weight: 400\; letter-spacing: 0.5px\; margin-bottom: 0px\; margin-left: 0px\; margin-right: 0px\; margin-top: 0px\; orphans: 2\; padding-bottom: 0px\; padding-left: 0px\; padding-right: 0px\; padding-top: 0px\; text-align: left\; text-decoration: none\; text-indent: 0px\; text-transform: none\; -webkit-text-stroke-width: 0px\; white-space: normal\; word-spacing: 0px\;">First place will win 1 badge to ECCC 2018!</span><br style="background-color: transparent\; color: rgb(102\, 106\, 115)\; font-family: Benton Sans\,-apple-system\,BlinkMacSystemFont\,Roboto\,Helvetica Neue\,Helvetica\,Tahoma\,Arial\,sans-serif\; font-size: 15px\; font-style: normal\; font-variant: normal\; font-weight: 400\; letter-spacing: 0.5px\; margin-bottom: 0px\; margin-left: 0px\; margin-right: 0px\; margin-top: 0px\; orphans: 2\; padding-bottom: 0px\; padding-left: 0px\; padding-right: 0px\; padding-top: 0px\; text-align: left\; text-decoration: none\; text-indent: 0px\; text-transform: none\; -webkit-text-stroke-width: 0px\; white-space: normal\; word-spacing: 0px\;" />\n<br style="background-color: transparent\; color: rgb(102\, 106\, 115)\; font-family: Benton Sans\,-apple-system\,BlinkMacSystemFont\,Roboto\,Helvetica Neue\,Helvetica\,Tahoma\,Arial\,sans-serif\; font-size: 15px\; font-style: normal\; font-variant: normal\; font-weight: 400\; letter-spacing: 0.5px\; margin-bottom: 0px\; margin-left: 0px\; margin-right: 0px\; margin-top: 0px\; orphans: 2\; padding-bottom: 0px\; padding-left: 0px\; padding-right: 0px\; padding-top: 0px\; text-align: left\; text-decoration: none\; text-indent: 0px\; text-transform: none\; -webkit-text-stroke-width: 0px\; white-space: normal\; word-spacing: 0px\;" />\n<span style="background-color: transparent\; color: rgb(102\, 106\, 115)\; font-family: Benton Sans\,-apple-system\,BlinkMacSystemFont\,Roboto\,Helvetica Neue\,Helvetica\,Tahoma\,Arial\,sans-serif\; font-size: 15px\; font-style: normal\; font-variant: normal\; font-weight: 400\; letter-spacing: 0.5px\; margin-bottom: 0px\; margin-left: 0px\; margin-right: 0px\; margin-top: 0px\; orphans: 2\; padding-bottom: 0px\; padding-left: 0px\; padding-right: 0px\; padding-top: 0px\; text-align: left\; text-decoration: none\; text-indent: 0px\; text-transform: none\; -webkit-text-stroke-width: 0px\; white-space: normal\; word-spacing: 0px\;">We will also have an exhibition area\, artist ally\, puzzle escape room &amp\; live DJ.</span><br style="background-color: transparent\; color: rgb(102\, 106\, 115)\; font-family: Benton Sans\,-apple-system\,BlinkMacSystemFont\,Roboto\,Helvetica Neue\,Helvetica\,Tahoma\,Arial\,sans-serif\; font-size: 15px\; font-style: normal\; font-variant: normal\; font-weight: 400\; letter-spacing: 0.5px\; margin-bottom: 0px\; margin-left: 0px\; margin-right: 0px\; margin-top: 0px\; orphans: 2\; padding-bottom: 0px\; padding-left: 0px\; padding-right: 0px\; padding-top: 0px\; text-align: left\; text-decoration: none\; text-indent: 0px\; text-transform: none\; -webkit-text-stroke-width: 0px\; white-space: normal\; word-spacing: 0px\;" />\n<br style="background-color: transparent\; color: rgb(102\, 106\, 115)\; font-family: Benton Sans\,-apple-system\,BlinkMacSystemFont\,Roboto\,Helvetica Neue\,Helvetica\,Tahoma\,Arial\,sans-serif\; font-size: 15px\; font-style: normal\; font-variant: normal\; font-weight: 400\; letter-spacing: 0.5px\; margin-bottom: 0px\; margin-left: 0px\; margin-right: 0px\; margin-top: 0px\; orphans: 2\; padding-bottom: 0px\; padding-left: 0px\; padding-right: 0px\; padding-top: 0px\; text-align: left\; text-decoration: none\; text-indent: 0px\; text-transform: none\; -webkit-text-stroke-width: 0px\; white-space: normal\; word-spacing: 0px\;" />\n<span style="background-color: transparent\; color: rgb(102\, 106\, 115)\; font-family: Benton Sans\,-apple-system\,BlinkMacSystemFont\,Roboto\,Helvetica Neue\,Helvetica\,Tahoma\,Arial\,sans-serif\; font-size: 15px\; font-style: normal\; font-variant: normal\; font-weight: 400\; letter-spacing: 0.5px\; margin-bottom: 0px\; margin-left: 0px\; margin-right: 0px\; margin-top: 0px\; orphans: 2\; padding-bottom: 0px\; padding-left: 0px\; padding-right: 0px\; padding-top: 0px\; text-align: left\; text-decoration: none\; text-indent: 0px\; text-transform: none\; -webkit-text-stroke-width: 0px\; white-space: normal\; word-spacing: 0px\;">Tickets are $15 for attendees. Kids 10 &amp\; under are $5</span><br style="background-color: transparent\; color: rgb(102\, 106\, 115)\; font-family: Benton Sans\,-apple-system\,BlinkMacSystemFont\,Roboto\,Helvetica Neue\,Helvetica\,Tahoma\,Arial\,sans-serif\; font-size: 15px\; font-style: normal\; font-variant: normal\; font-weight: 400\; letter-spacing: 0.5px\; margin-bottom: 0px\; margin-left: 0px\; margin-right: 0px\; margin-top: 0px\; orphans: 2\; padding-bottom: 0px\; padding-left: 0px\; padding-right: 0px\; padding-top: 0px\; text-align: left\; text-decoration: none\; text-indent: 0px\; text-transform: none\; -webkit-text-stroke-width: 0px\; white-space: normal\; word-spacing: 0px\;" />\n<span style="background-color: transparent\; color: rgb(102\, 106\, 115)\; font-family: Benton Sans\,-apple-system\,BlinkMacSystemFont\,Roboto\,Helvetica Neue\,Helvetica\,Tahoma\,Arial\,sans-serif\; font-size: 15px\; font-style: normal\; font-variant: normal\; font-weight: 400\; letter-spacing: 0.5px\; margin-bottom: 0px\; margin-left: 0px\; margin-right: 0px\; margin-top: 0px\; orphans: 2\; padding-bottom: 0px\; padding-left: 0px\; padding-right: 0px\; padding-top: 0px\; text-align: left\; text-decoration: none\; text-indent: 0px\; text-transform: none\; -webkit-text-stroke-width: 0px\; white-space: normal\; word-spacing: 0px\;">Price includes one ticket to the con badge raffle! </span><br style="background-color: transparent\; color: rgb(102\, 106\, 115)\; font-family: Benton Sans\,-apple-system\,BlinkMacSystemFont\,Roboto\,Helvetica Neue\,Helvetica\,Tahoma\,Arial\,sans-serif\; font-size: 15px\; font-style: normal\; font-variant: normal\; font-weight: 400\; letter-spacing: 0.5px\; margin-bottom: 0px\; margin-left: 0px\; margin-right: 0px\; margin-top: 0px\; orphans: 2\; padding-bottom: 0px\; padding-left: 0px\; padding-right: 0px\; padding-top: 0px\; text-align: left\; text-decoration: none\; text-indent: 0px\; text-transform: none\; -webkit-text-stroke-width: 0px\; white-space: normal\; word-spacing: 0px\;" />\n<span style="background-color: transparent\; color: rgb(102\, 106\, 115)\; font-family: Benton Sans\,-apple-system\,BlinkMacSystemFont\,Roboto\,Helvetica Neue\,Helvetica\,Tahoma\,Arial\,sans-serif\; font-size: 15px\; font-style: normal\; font-variant: normal\; font-weight: 400\; letter-spacing: 0.5px\; margin-bottom: 0px\; margin-left: 0px\; margin-right: 0px\; margin-top: 0px\; orphans: 2\; padding-bottom: 0px\; padding-left: 0px\; padding-right: 0px\; padding-top: 0px\; text-align: left\; text-decoration: none\; text-indent: 0px\; text-transform: none\; -webkit-text-stroke-width: 0px\; white-space: normal\; word-spacing: 0px\;">*Additional raffle tickets will be available for purchase</span><br style="background-color: transparent\; color: rgb(102\, 106\, 115)\; font-family: Benton Sans\,-apple-system\,BlinkMacSystemFont\,Roboto\,Helvetica Neue\,Helvetica\,Tahoma\,Arial\,sans-serif\; font-size: 15px\; font-style: normal\; font-variant: normal\; font-weight: 400\; letter-spacing: 0.5px\; margin-bottom: 0px\; margin-left: 0px\; margin-right: 0px\; margin-top: 0px\; orphans: 2\; padding-bottom: 0px\; padding-left: 0px\; padding-right: 0px\; padding-top: 0px\; text-align: left\; text-decoration: none\; text-indent: 0px\; text-transform: none\; -webkit-text-stroke-width: 0px\; white-space: normal\; word-spacing: 0px\;" />\n<br style="background-color: transparent\; color: rgb(102\, 106\, 115)\; font-family: Benton Sans\,-apple-system\,BlinkMacSystemFont\,Roboto\,Helvetica Neue\,Helvetica\,Tahoma\,Arial\,sans-serif\; font-size: 15px\; font-style: normal\; font-variant: normal\; font-weight: 400\; letter-spacing: 0.5px\; margin-bottom: 0px\; margin-left: 0px\; margin-right: 0px\; margin-top: 0px\; orphans: 2\; padding-bottom: 0px\; padding-left: 0px\; padding-right: 0px\; padding-top: 0px\; text-align: left\; text-decoration: none\; text-indent: 0px\; text-transform: none\; -webkit-text-stroke-width: 0px\; white-space: normal\; word-spacing: 0px\;" />\n<span style="background-color: transparent\; color: rgb(102\, 106\, 115)\; font-family: Benton Sans\,-apple-system\,BlinkMacSystemFont\,Roboto\,Helvetica Neue\,Helvetica\,Tahoma\,Arial\,sans-serif\; font-size: 15px\; font-style: normal\; font-variant: normal\; font-weight: 400\; letter-spacing: 0.5px\; margin-bottom: 0px\; margin-left: 0px\; margin-right: 0px\; margin-top: 0px\; orphans: 2\; padding-bottom: 0px\; padding-left: 0px\; padding-right: 0px\; padding-top: 0px\; text-align: left\; text-decoration: none\; text-indent: 0px\; text-transform: none\; -webkit-text-stroke-width: 0px\; white-space: normal\; word-spacing: 0px\;">Tables are $20. If you would like one please contact Info@rentoncomicon.com for more information.</span><br style="background-color: transparent\; color: rgb(102\, 106\, 115)\; font-family: Benton Sans\,-apple-system\,BlinkMacSystemFont\,Roboto\,Helvetica Neue\,Helvetica\,Tahoma\,Arial\,sans-serif\; font-size: 15px\; font-style: normal\; font-variant: normal\; font-weight: 400\; letter-spacing: 0.5px\; margin-bottom: 0px\; margin-left: 0px\; margin-right: 0px\; margin-top: 0px\; orphans: 2\; padding-bottom: 0px\; padding-left: 0px\; padding-right: 0px\; padding-top: 0px\; text-align: left\; text-decoration: none\; text-indent: 0px\; text-transform: none\; -webkit-text-stroke-width: 0px\; white-space: normal\; word-spacing: 0px\;" />\n<br style="background-color: transparent\; color: rgb(102\, 106\, 115)\; font-family: Benton Sans\,-apple-system\,BlinkMacSystemFont\,Roboto\,Helvetica Neue\,Helvetica\,Tahoma\,Arial\,sans-serif\; font-size: 15px\; font-style: normal\; font-variant: normal\; font-weight: 400\; letter-spacing: 0.5px\; margin-bottom: 0px\; margin-left: 0px\; margin-right: 0px\; margin-top: 0px\; orphans: 2\; padding-bottom: 0px\; padding-left: 0px\; padding-right: 0px\; padding-top: 0px\; text-align: left\; text-decoration: none\; text-indent: 0px\; text-transform: none\; -webkit-text-stroke-width: 0px\; white-space: normal\; word-spacing: 0px\;" />\n<span style="background-color: transparent\; color: rgb(102\, 106\, 115)\; font-family: Benton Sans\,-apple-system\,BlinkMacSystemFont\,Roboto\,Helvetica Neue\,Helvetica\,Tahoma\,Arial\,sans-serif\; font-size: 15px\; font-style: normal\; font-variant: normal\; font-weight: 400\; letter-spacing: 0.5px\; margin-bottom: 0px\; margin-left: 0px\; margin-right: 0px\; margin-top: 0px\; orphans: 2\; padding-bottom: 0px\; padding-left: 0px\; padding-right: 0px\; padding-top: 0px\; text-align: left\; text-decoration: none\; text-indent: 0px\; text-transform: none\; -webkit-text-stroke-width: 0px\; white-space: normal\; word-spacing: 0px\;">Don&#39\;t miss out on this awesome event to connect with others in the con community!</span>
LOCATION:The Old Drapery Building (Across from Renton Pavilion) 700 S. 3rd St Renton\, WA 98057.
UID:e.16.5517
SEQUENCE:3
DTSTAMP:20260425T035922Z
URL:https://chamber.gorenton.com/events/details/kick-off-the-cons-party-rencon-5517
END:VEVENT

END:VCALENDAR
