BEGIN:VCALENDAR
VERSION:2.0
PRODID:-//ChamberMaster//Event Calendar 2.0//EN
METHOD:PUBLISH
X-PUBLISHED-TTL:P3D
REFRESH-INTERVAL:P3D
CALSCALE:GREGORIAN
BEGIN:VEVENT
DTSTART:20260328T013000Z
DTEND:20260328T050000Z
X-MICROSOFT-CDO-ALLDAYEVENT:FALSE
SUMMARY:KidVantage's Take a Chance for Kids!
DESCRIPTION:Will you take a chance for kids? We hope so!\n\n\n\nIt is said that play is the work of kids. On Friday\, March 27\, you can play to work FOR kids. A night of fun\, laughter\, and giving back awaits! Join us for Take a Chance for Kids\, a game night fundraiser supporting KidVantage.\n\n \n\n\n	When: Friday\, March 27\, 2026\, 6:30 p.m.\n	Where: Blakely Hall\, Issaquah Highlands\n	What: Food\, drinks\, games\, live auction\, and more!\n\n\n\n\nAbout KidVantage:\n\nFounded in 1990\, KidVantage helps kids be safe\, nourished and healthy by providing essentials such as diapers\, formula\, car seats\, clothing and more. KidVantage protects and promotes healthy development for kids from birth through age 12 through the collection\, purchase and distribution of essential items\, free of charge\, with the help of a collaborative network of education\, health and human service partner agencies in central Puget Sound. We strengthen families\, build resiliency in children\, reduce inequities and create stronger communities with a mission of helping kids reach their full potential tomorrow by meeting basic needs today. You can learn more about KidVantage here.
X-ALT-DESC;FMTTYPE=text/html:<div><span style="font-family:arial\,helvetica\,sans-serif"><strong><span style="font-size:20px">Will you take a chance for kids? We hope so!</span></strong></span><br />\n<br />\n<span style="font-size:14px"><span style="font-family:arial\,helvetica\,sans-serif">It is said that play is the work of kids. On Friday\, March 27\, you can play to work FOR kids. A night of fun\, laughter\, and giving back awaits! Join us for <em><strong>Take a Chance for Kids\,</strong></em> a game night fundraiser supporting KidVantage.</span></span><br />\n&nbsp\;</div>\n\n<ul>\n	<li><span style="font-family:arial\,helvetica\,sans-serif"><span style="font-size:14px">When: Friday\, March 27\, 2026\, 6:30 p.m.</span></span></li>\n	<li><span style="font-family:arial\,helvetica\,sans-serif"><span style="font-size:14px">Where: Blakely Hall\, Issaquah Highlands</span></span></li>\n	<li><span style="font-family:arial\,helvetica\,sans-serif"><span style="font-size:14px">What: Food\, drinks\, games\, live auction\, and more!</span></span></li>\n</ul>\n\n<div><br />\n<strong><span style="font-family:arial\,helvetica\,sans-serif"><span style="font-size:14px"><span style="color:rgb(0\, 0\, 0)">About KidVantage:</span></span></span></strong><br />\n<span style="font-size:14px">Founded in 1990\, KidVantage helps kids be safe\, nourished and healthy by providing essentials such as diapers\, formula\, car seats\, clothing and more. KidVantage protects and promotes healthy development for kids from birth through age 12 through the collection\, purchase and distribution of essential items\, free of charge\, with the help of a collaborative network of education\, health and human service partner agencies in central Puget Sound. We strengthen families\, build resiliency in children\, reduce inequities and create stronger communities with a mission of helping kids reach their full potential tomorrow by meeting basic needs today. You can learn more about KidVantage <a href="https://kidvantagenw.org/">here</a>.</span><br />\n&nbsp\;</div>\n
LOCATION:Blakely Hall Issaquah Highlands 2520 NE Park Drive\, Issaquah\, WA 98029
UID:e.16.32056
SEQUENCE:3
DTSTAMP:20260425T223317Z
URL:https://chamber.gorenton.com/events/details/kidvantage-s-take-a-chance-for-kids-03-27-2026-32056
END:VEVENT

END:VCALENDAR
