BEGIN:VCALENDAR
VERSION:2.0
PRODID:-//ChamberMaster//Event Calendar 2.0//EN
METHOD:PUBLISH
X-PUBLISHED-TTL:P3D
REFRESH-INTERVAL:P3D
CALSCALE:GREGORIAN
BEGIN:VEVENT
DTSTART:20190316T150000Z
DTEND:20190316T173000Z
X-MICROSOFT-CDO-ALLDAYEVENT:FALSE
SUMMARY:Knights of Columbus Free Pancake Breakfast for Renton Seniors 50+
DESCRIPTION:Renton seniors 50 and older are invited for a special treat on Saturday\, March 16: a Free Pancake Breakfast that includes delicious pancakes\, scrambled eggs\, sausages\, applesauce\, juice\, coffee/tea and cooked by Knights of Columbus members from St. Anthony Parish. City of Renton provides the facility and helps with publicity for event. Dan Kellogg\, Wills and estate attorney\, is the event financial sponsor. The Knights of Columbus thanks him for his support to make this breakfast possible. There is also 50/50 raffle\, if you want to participate and try your luck. The Pancake Breakfast is free. Raffle is only for those who want to play. Since the breakfast is being held on St. Patrick's Day Weekend\, there will be decorations and a lot of fun. It will be a great way to start your celebrating.
X-ALT-DESC;FMTTYPE=text/html:Renton seniors 50 and older are invited for a special treat on Saturday\, March 16: a Free Pancake Breakfast that includes delicious pancakes\, scrambled eggs\, sausages\, applesauce\, juice\, coffee/tea and cooked by Knights of Columbus members from St. Anthony Parish. City of Renton provides the facility and helps with publicity for event. Dan Kellogg\, Wills and estate attorney\, is the event financial sponsor. The Knights of Columbus thanks him for his support to make this breakfast possible. There is also 50/50 raffle\, if you want to participate and try your luck. The Pancake Breakfast is free. Raffle is only for those who want to play. Since the breakfast is being held on St. Patrick&#39\;s Day Weekend\, there will be decorations and a lot of fun. It will be a great way to start your celebrating.
LOCATION:Renton Senior Activity Center 211 Burnett Ave. N. Renton
UID:e.16.6237
SEQUENCE:3
DTSTAMP:20260424T064803Z
URL:https://chamber.gorenton.com/events/details/knights-of-columbus-free-pancake-breakfast-for-renton-seniors-50-6237
END:VEVENT

END:VCALENDAR
