BEGIN:VCALENDAR
VERSION:2.0
PRODID:-//ChamberMaster//Event Calendar 2.0//EN
METHOD:PUBLISH
X-PUBLISHED-TTL:P3D
REFRESH-INTERVAL:P3D
CALSCALE:GREGORIAN
BEGIN:VEVENT
DTSTART:20190928T180000Z
DTEND:20190928T190000Z
X-MICROSOFT-CDO-ALLDAYEVENT:FALSE
SUMMARY:La Causa by Living Voices
DESCRIPTION:In the 1960s a movement changed the lives of Latin American farm workers who fought for civil rights and battled racism and indecent working conditions. Experience this chapter of American history through the eyes of a young woman on the front lines. Recommended for ages 10 and up.
X-ALT-DESC;FMTTYPE=text/html:In the 1960s a movement changed the lives of Latin American farm workers who fought for civil rights and battled racism and indecent working conditions. Experience this chapter of American history through the eyes of a young woman on the front lines. Recommended for ages 10 and up.
LOCATION:Renton History Museum 235 Mill Ave S Renton\, WA\, 98057
UID:e.16.6630
SEQUENCE:3
DTSTAMP:20260423T232928Z
URL:https://chamber.gorenton.com/events/details/la-causa-by-living-voices-09-28-2019-6630
END:VEVENT

END:VCALENDAR
