BEGIN:VCALENDAR
VERSION:2.0
PRODID:-//ChamberMaster//Event Calendar 2.0//EN
METHOD:PUBLISH
X-PUBLISHED-TTL:P3D
REFRESH-INTERVAL:P3D
CALSCALE:GREGORIAN
BEGIN:VEVENT
DTSTART:20180331T180000Z
DTEND:20180331T190000Z
X-MICROSOFT-CDO-ALLDAYEVENT:FALSE
SUMMARY:La Causa by Living Voices
DESCRIPTION:Join us in celebration of Cesar Chavez Day! In the 1960's a movement changed the lives of Latin American farm workers who fought for civil rights\, battled racism\, and indecent working conditions. Experience this chapter of American history through the eyes of a young woman on the front lines. Recommended for ages 10 and up.
X-ALT-DESC;FMTTYPE=text/html:Join us in celebration of Cesar Chavez Day! In the 1960&rsquo\;s a movement changed the lives of Latin American farm workers who fought for civil rights\, battled racism\, and indecent working conditions. Experience this chapter of American history through the eyes of a young woman on the front lines. Recommended for ages 10 and up.
LOCATION:RENTON HISTORY MUSEUM 235 Mill Ave. S. Renton\, WA 98057
UID:e.16.5725
SEQUENCE:3
DTSTAMP:20260425T005500Z
URL:https://chamber.gorenton.com/events/details/la-causa-by-living-voices-5725
END:VEVENT

END:VCALENDAR
