BEGIN:VCALENDAR
VERSION:2.0
PRODID:-//ChamberMaster//Event Calendar 2.0//EN
METHOD:PUBLISH
X-PUBLISHED-TTL:P3D
REFRESH-INTERVAL:P3D
CALSCALE:GREGORIAN
BEGIN:VEVENT
DTSTART:20210401T230000Z
DTEND:20210402T030000Z
X-MICROSOFT-CDO-ALLDAYEVENT:FALSE
SUMMARY:LA HACIENDA SANTA FE GRAND RE-OPENING
DESCRIPTION:Please join the Renton Chamber of Commerce for the Ribbon Cutting and Grand Re-Opening of La Hacienda Santa Fe and their new menu. \n\nStop by to support local and enjoy a night of delicious Mexican cuisine.
X-ALT-DESC;FMTTYPE=text/html:<strong>Please join the Renton Chamber of Commerce for the Ribbon Cutting and Grand Re-Opening of La Hacienda Santa Fe and their new menu.&nbsp\;<br />\nStop by to support local and enjoy a night of delicious Mexican cuisine.</strong><br />\n<br />\n&nbsp\;
LOCATION:811 S 3rd St. Renton\, WA 98057
UID:e.16.8151
SEQUENCE:3
DTSTAMP:20260420T184211Z
URL:https://chamber.gorenton.com/events/details/la-hacienda-santa-fe-grand-re-opening-8151
END:VEVENT

END:VCALENDAR
