BEGIN:VCALENDAR
VERSION:2.0
PRODID:-//ChamberMaster//Event Calendar 2.0//EN
METHOD:PUBLISH
X-PUBLISHED-TTL:P3D
REFRESH-INTERVAL:P3D
CALSCALE:GREGORIAN
BEGIN:VEVENT
DTSTART:20190323T220000Z
DTEND:20190324T040000Z
X-MICROSOFT-CDO-ALLDAYEVENT:FALSE
SUMMARY:Ladies Night - Renton Downtown Partnership
DESCRIPTION:Grab your girlfriends and come on downtown for "Ladies Night"\, hosted by the Renton Downtown Partnership with premiere sponsor\, Merrill Gardens. We will have activities & opportunities for everyone ..... including classes at the various shops\, demonstrations\, entertainment.... We will be recognizing women owned businesses\, celebrating organizations empowering women\, having classes designed for women and an Urban Market full of over 60 vendors from all over (some brand new to Renton). Register in advance for the cocktail crawl featuring cocktails & teasers from local distilleries\, as well as other classes from local businesses like Ascendance Ariel Arts\, Urban Sprouts\, Sparkle and others. Enjoy discounts at local eateries\, drink specials at the local watering holes and purchase opportunities at the local gift shops and stores. Stop by the photo booth and capture a moment forever. Want to make it an official night out?? Take advantage of the Red Lion "Ladies Night" Out discount.... book a room for a great discount (you can book through our registration page) and take the Red Lion courtesy shuttle downtown for a stress free night! **and no\, you don't have to be a lady to participate! ?? (First 100 guests registered receive a customized reusable shopping bag!) REGISTER EARLY - LIMITED SPACES IN EACH CLASS & EVENT!***
X-ALT-DESC;FMTTYPE=text/html:Grab your girlfriends and come on downtown for &quot\;Ladies Night&quot\;\, hosted by the Renton Downtown Partnership with premiere sponsor\, Merrill Gardens. We will have activities &amp\; opportunities for everyone ..... including classes at the various shops\, demonstrations\, entertainment.... We will be recognizing women owned businesses\, celebrating organizations empowering women\, having classes designed for women and an Urban Market full of over 60 vendors from all over (some brand new to Renton). Register in advance for the cocktail crawl featuring cocktails &amp\; teasers from local distilleries\, as well as other classes from local businesses like Ascendance Ariel Arts\, Urban Sprouts\, Sparkle and others. Enjoy discounts at local eateries\, drink specials at the local watering holes and purchase opportunities at the local gift shops and stores. Stop by the photo booth and capture a moment forever. Want to make it an official night out?? Take advantage of the Red Lion &quot\;Ladies Night&quot\; Out discount.... book a room for a great discount (you can book through our registration page) and take the Red Lion courtesy shuttle downtown for a stress free night! **and no\, you don&#39\;t have to be a lady to participate! ?? (First 100 guests registered receive a customized reusable shopping bag!) REGISTER EARLY - LIMITED SPACES IN EACH CLASS &amp\; EVENT!***
LOCATION:913 S 3rd St - HQ Check In 700 S 3rd St 911 S 3rd St 913 S 3rd St 915 S 3rd St 919 S 3rd St
UID:e.16.6264
SEQUENCE:3
DTSTAMP:20260424T065901Z
URL:https://chamber.gorenton.com/events/details/ladies-night-renton-downtown-partnership-6264
END:VEVENT

END:VCALENDAR
